BEGIN:VCALENDAR
VERSION:2.0
PRODID:-//Fahrschule Essig und Heinzmann - ECPv6.15.20//NONSGML v1.0//EN
CALSCALE:GREGORIAN
METHOD:PUBLISH
X-ORIGINAL-URL:https://fahrschule-essig.de
X-WR-CALDESC:Veranstaltungen für Fahrschule Essig und Heinzmann
REFRESH-INTERVAL;VALUE=DURATION:PT1H
X-Robots-Tag:noindex
X-PUBLISHED-TTL:PT1H
BEGIN:VTIMEZONE
TZID:Europe/Berlin
BEGIN:DAYLIGHT
TZOFFSETFROM:+0100
TZOFFSETTO:+0200
TZNAME:CEST
DTSTART:20250330T010000
END:DAYLIGHT
BEGIN:STANDARD
TZOFFSETFROM:+0200
TZOFFSETTO:+0100
TZNAME:CET
DTSTART:20251026T010000
END:STANDARD
BEGIN:DAYLIGHT
TZOFFSETFROM:+0100
TZOFFSETTO:+0200
TZNAME:CEST
DTSTART:20260329T010000
END:DAYLIGHT
BEGIN:STANDARD
TZOFFSETFROM:+0200
TZOFFSETTO:+0100
TZNAME:CET
DTSTART:20261025T010000
END:STANDARD
BEGIN:DAYLIGHT
TZOFFSETFROM:+0100
TZOFFSETTO:+0200
TZNAME:CEST
DTSTART:20270328T010000
END:DAYLIGHT
BEGIN:STANDARD
TZOFFSETFROM:+0200
TZOFFSETTO:+0100
TZNAME:CET
DTSTART:20271031T010000
END:STANDARD
END:VTIMEZONE
BEGIN:VEVENT
DTSTART;TZID=Europe/Berlin:20260302T183000
DTEND;TZID=Europe/Berlin:20260302T200000
DTSTAMP:20260420T095133
CREATED:20260209T164418Z
LAST-MODIFIED:20260209T164418Z
UID:2998-1772476200-1772481600@fahrschule-essig.de
SUMMARY:Thema 3 : Verkehrszeichen / -einrichtungen
DESCRIPTION:
URL:https://fahrschule-essig.de/event/thema-3-verkehrszeichen-einrichtungen-40/
LOCATION:Wielandstraße 3
END:VEVENT
BEGIN:VEVENT
DTSTART;TZID=Europe/Berlin:20260303T183000
DTEND;TZID=Europe/Berlin:20260303T200000
DTSTAMP:20260420T095133
CREATED:20260209T164501Z
LAST-MODIFIED:20260209T164501Z
UID:3000-1772562600-1772568000@fahrschule-essig.de
SUMMARY:Thema 4 : Strassenverkehrssystem  u.s.
DESCRIPTION:
URL:https://fahrschule-essig.de/event/thema-4-strassenverkehrssystem-u-s-40/
LOCATION:Bockgasse 21
END:VEVENT
BEGIN:VEVENT
DTSTART;TZID=Europe/Berlin:20260304T183000
DTEND;TZID=Europe/Berlin:20260304T200000
DTSTAMP:20260420T095133
CREATED:20260209T164620Z
LAST-MODIFIED:20260209T164620Z
UID:3002-1772649000-1772654400@fahrschule-essig.de
SUMMARY:Thema 5 : Vorfahrt
DESCRIPTION:
URL:https://fahrschule-essig.de/event/thema-5-vorfahrt-42/
LOCATION:Wielandstraße 3
END:VEVENT
BEGIN:VEVENT
DTSTART;TZID=Europe/Berlin:20260305T183000
DTEND;TZID=Europe/Berlin:20260305T200000
DTSTAMP:20260420T095133
CREATED:20260209T164727Z
LAST-MODIFIED:20260209T164727Z
UID:3004-1772735400-1772740800@fahrschule-essig.de
SUMMARY:Thema 6 : Verkehrsregelungen / Bahnübergänge
DESCRIPTION:
URL:https://fahrschule-essig.de/event/thema-6-verkehrsregelungen-bahnuebergaenge-40/
LOCATION:Bockgasse 21
END:VEVENT
BEGIN:VEVENT
DTSTART;TZID=Europe/Berlin:20260309T183000
DTEND;TZID=Europe/Berlin:20260309T200000
DTSTAMP:20260420T095133
CREATED:20260209T164811Z
LAST-MODIFIED:20260209T164811Z
UID:3006-1773081000-1773086400@fahrschule-essig.de
SUMMARY:Thema 7 : Geschwindigkeit\, Abstand\, Umwelt
DESCRIPTION:
URL:https://fahrschule-essig.de/event/thema-7-geschwindigkeit-abstand-umwelt-43/
LOCATION:Wielandstraße 3
END:VEVENT
BEGIN:VEVENT
DTSTART;TZID=Europe/Berlin:20260310T183000
DTEND;TZID=Europe/Berlin:20260310T200000
DTSTAMP:20260420T095133
CREATED:20260209T164852Z
LAST-MODIFIED:20260209T164852Z
UID:3008-1773167400-1773172800@fahrschule-essig.de
SUMMARY:Thema 8 : Andere Teilnehmer im Strassenverkehr
DESCRIPTION:
URL:https://fahrschule-essig.de/event/thema-8-andere-teilnehmer-im-strassenverkehr-40/
LOCATION:Bockgasse 21
END:VEVENT
BEGIN:VEVENT
DTSTART;TZID=Europe/Berlin:20260311T183000
DTEND;TZID=Europe/Berlin:20260311T200000
DTSTAMP:20260420T095133
CREATED:20260209T164947Z
LAST-MODIFIED:20260209T164947Z
UID:3010-1773253800-1773259200@fahrschule-essig.de
SUMMARY:Thema 9 : Verkehrsverhalten bei Fahrmanövern
DESCRIPTION:
URL:https://fahrschule-essig.de/event/thema-9-verkehrsverhalten-bei-fahrmanoevern-42/
LOCATION:Wielandstraße 3
END:VEVENT
BEGIN:VEVENT
DTSTART;TZID=Europe/Berlin:20260312T183000
DTEND;TZID=Europe/Berlin:20260312T200000
DTSTAMP:20260420T095133
CREATED:20260209T165051Z
LAST-MODIFIED:20260209T165051Z
UID:3012-1773340200-1773345600@fahrschule-essig.de
SUMMARY:Thema 10: Ruhender Verkehr
DESCRIPTION:
URL:https://fahrschule-essig.de/event/thema-10-ruhender-verkehr-42/
LOCATION:Bockgasse 21
END:VEVENT
BEGIN:VEVENT
DTSTART;TZID=Europe/Berlin:20260316T183000
DTEND;TZID=Europe/Berlin:20260316T200000
DTSTAMP:20260420T095133
CREATED:20260209T165149Z
LAST-MODIFIED:20260209T165149Z
UID:3014-1773685800-1773691200@fahrschule-essig.de
SUMMARY:hema 11: Verhalten in besonderen Situationen
DESCRIPTION:
URL:https://fahrschule-essig.de/event/hema-11-verhalten-in-besonderen-situationen/
LOCATION:Wielandstraße 3
END:VEVENT
BEGIN:VEVENT
DTSTART;TZID=Europe/Berlin:20260317T183000
DTEND;TZID=Europe/Berlin:20260317T200000
DTSTAMP:20260420T095133
CREATED:20260209T165239Z
LAST-MODIFIED:20260209T165239Z
UID:3016-1773772200-1773777600@fahrschule-essig.de
SUMMARY:Thema 12: Lebenslanges Lernen
DESCRIPTION:
URL:https://fahrschule-essig.de/event/thema-12-lebenslanges-lernen-42/
LOCATION:Bockgasse 21
END:VEVENT
BEGIN:VEVENT
DTSTART;TZID=Europe/Berlin:20260318T183000
DTEND;TZID=Europe/Berlin:20260318T200000
DTSTAMP:20260420T095133
CREATED:20260209T165336Z
LAST-MODIFIED:20260209T165336Z
UID:3018-1773858600-1773864000@fahrschule-essig.de
SUMMARY:Technik 1: Techni. Bed.\, Pers.-Güterbeförderung
DESCRIPTION:
URL:https://fahrschule-essig.de/event/technik-1-techni-bed-pers-gueterbefoerderung-39/
LOCATION:Wielandstraße 3
END:VEVENT
BEGIN:VEVENT
DTSTART;TZID=Europe/Berlin:20260319T183000
DTEND;TZID=Europe/Berlin:20260319T200000
DTSTAMP:20260420T095133
CREATED:20260209T165425Z
LAST-MODIFIED:20260209T165425Z
UID:3020-1773945000-1773950400@fahrschule-essig.de
SUMMARY:Technik 2 : Fahren mit Solokfz. und Züge
DESCRIPTION:
URL:https://fahrschule-essig.de/event/technik-2-fahren-mit-solokfz-und-zuege-41/
LOCATION:Bockgasse 21
END:VEVENT
BEGIN:VEVENT
DTSTART;TZID=Europe/Berlin:20260323T183000
DTEND;TZID=Europe/Berlin:20260323T200000
DTSTAMP:20260420T095133
CREATED:20260209T165555Z
LAST-MODIFIED:20260209T165555Z
UID:3022-1774290600-1774296000@fahrschule-essig.de
SUMMARY:Thema 1 : Persönliche Voraussetzunen
DESCRIPTION:
URL:https://fahrschule-essig.de/event/thema-1-persoenliche-voraussetzunen-37/
LOCATION:Wielandstraße 3
END:VEVENT
BEGIN:VEVENT
DTSTART;TZID=Europe/Berlin:20260324T183000
DTEND;TZID=Europe/Berlin:20260324T200000
DTSTAMP:20260420T095133
CREATED:20260209T165729Z
LAST-MODIFIED:20260209T165729Z
UID:3024-1774377000-1774382400@fahrschule-essig.de
SUMMARY:Thema 2 : Rechtliche Rahmenbedingungen
DESCRIPTION:
URL:https://fahrschule-essig.de/event/thema-2-rechtliche-rahmenbedingungen-41/
LOCATION:Bockgasse 21
END:VEVENT
BEGIN:VEVENT
DTSTART;TZID=Europe/Berlin:20260325T183000
DTEND;TZID=Europe/Berlin:20260325T200000
DTSTAMP:20260420T095133
CREATED:20260209T165830Z
LAST-MODIFIED:20260209T165830Z
UID:3026-1774463400-1774468800@fahrschule-essig.de
SUMMARY:Thema 3 : Verkehrszeichen / -einrichtungen
DESCRIPTION:
URL:https://fahrschule-essig.de/event/thema-3-verkehrszeichen-einrichtungen-41/
LOCATION:Wielandstraße 3
END:VEVENT
BEGIN:VEVENT
DTSTART;TZID=Europe/Berlin:20260326T183000
DTEND;TZID=Europe/Berlin:20260326T200000
DTSTAMP:20260420T095133
CREATED:20260209T165951Z
LAST-MODIFIED:20260209T165951Z
UID:3028-1774549800-1774555200@fahrschule-essig.de
SUMMARY:hema 4 : Strassenverkehrssystem  u.s.
DESCRIPTION:
URL:https://fahrschule-essig.de/event/hema-4-strassenverkehrssystem-u-s/
LOCATION:Bockgasse 21
END:VEVENT
BEGIN:VEVENT
DTSTART;TZID=Europe/Berlin:20260330T183000
DTEND;TZID=Europe/Berlin:20260330T200000
DTSTAMP:20260420T095133
CREATED:20260209T170116Z
LAST-MODIFIED:20260209T170116Z
UID:3030-1774895400-1774900800@fahrschule-essig.de
SUMMARY:Thema 5 : Vorfahrt
DESCRIPTION:
URL:https://fahrschule-essig.de/event/thema-5-vorfahrt-43/
LOCATION:Wielandstraße 3
END:VEVENT
BEGIN:VEVENT
DTSTART;TZID=Europe/Berlin:20260331T183000
DTEND;TZID=Europe/Berlin:20260331T200000
DTSTAMP:20260420T095133
CREATED:20260209T170201Z
LAST-MODIFIED:20260209T170201Z
UID:3032-1774981800-1774987200@fahrschule-essig.de
SUMMARY:Thema 6 : Verkehrsregelungen / Bahnübergänge
DESCRIPTION:
URL:https://fahrschule-essig.de/event/thema-6-verkehrsregelungen-bahnuebergaenge-41/
LOCATION:Bockgasse 21
END:VEVENT
END:VCALENDAR