BEGIN:VCALENDAR
VERSION:2.0
PRODID:-//Fahrschule Essig und Heinzmann - ECPv6.15.20//NONSGML v1.0//EN
CALSCALE:GREGORIAN
METHOD:PUBLISH
X-ORIGINAL-URL:https://fahrschule-essig.de
X-WR-CALDESC:Veranstaltungen für Fahrschule Essig und Heinzmann
REFRESH-INTERVAL;VALUE=DURATION:PT1H
X-Robots-Tag:noindex
X-PUBLISHED-TTL:PT1H
BEGIN:VTIMEZONE
TZID:Europe/Berlin
BEGIN:DAYLIGHT
TZOFFSETFROM:+0100
TZOFFSETTO:+0200
TZNAME:CEST
DTSTART:20250330T010000
END:DAYLIGHT
BEGIN:STANDARD
TZOFFSETFROM:+0200
TZOFFSETTO:+0100
TZNAME:CET
DTSTART:20251026T010000
END:STANDARD
BEGIN:DAYLIGHT
TZOFFSETFROM:+0100
TZOFFSETTO:+0200
TZNAME:CEST
DTSTART:20260329T010000
END:DAYLIGHT
BEGIN:STANDARD
TZOFFSETFROM:+0200
TZOFFSETTO:+0100
TZNAME:CET
DTSTART:20261025T010000
END:STANDARD
BEGIN:DAYLIGHT
TZOFFSETFROM:+0100
TZOFFSETTO:+0200
TZNAME:CEST
DTSTART:20270328T010000
END:DAYLIGHT
BEGIN:STANDARD
TZOFFSETFROM:+0200
TZOFFSETTO:+0100
TZNAME:CET
DTSTART:20271031T010000
END:STANDARD
END:VTIMEZONE
BEGIN:VEVENT
DTSTART;TZID=Europe/Berlin:20260209T183000
DTEND;TZID=Europe/Berlin:20260209T200000
DTSTAMP:20260420T114309
CREATED:20260209T162110Z
LAST-MODIFIED:20260209T162110Z
UID:2974-1770661800-1770667200@fahrschule-essig.de
SUMMARY:Thema 5 : Vorfahrt
DESCRIPTION:
URL:https://fahrschule-essig.de/event/thema-5-vorfahrt-41/
LOCATION:Wielandstraße 3
END:VEVENT
BEGIN:VEVENT
DTSTART;TZID=Europe/Berlin:20260210T183000
DTEND;TZID=Europe/Berlin:20260210T200000
DTSTAMP:20260420T114309
CREATED:20260209T162149Z
LAST-MODIFIED:20260209T162149Z
UID:2976-1770748200-1770753600@fahrschule-essig.de
SUMMARY:Thema 6 : Verkehrsregelungen / Bahnübergänge
DESCRIPTION:
URL:https://fahrschule-essig.de/event/thema-6-verkehrsregelungen-bahnuebergaenge-39/
LOCATION:Bockgasse 21
END:VEVENT
BEGIN:VEVENT
DTSTART;TZID=Europe/Berlin:20260211T183000
DTEND;TZID=Europe/Berlin:20260211T200000
DTSTAMP:20260420T114309
CREATED:20260209T162238Z
LAST-MODIFIED:20260209T162238Z
UID:2978-1770834600-1770840000@fahrschule-essig.de
SUMMARY:Thema 7 : Geschwindigkeit\, Abstand\, Umwelt
DESCRIPTION:
URL:https://fahrschule-essig.de/event/thema-7-geschwindigkeit-abstand-umwelt-42/
LOCATION:Wielandstraße 3
END:VEVENT
BEGIN:VEVENT
DTSTART;TZID=Europe/Berlin:20260212T183000
DTEND;TZID=Europe/Berlin:20260212T200000
DTSTAMP:20260420T114309
CREATED:20260209T163346Z
LAST-MODIFIED:20260209T163346Z
UID:2980-1770921000-1770926400@fahrschule-essig.de
SUMMARY:Thema 8 : Andere Teilnehmer im Strassenverkehr
DESCRIPTION:
URL:https://fahrschule-essig.de/event/thema-8-andere-teilnehmer-im-strassenverkehr-39/
LOCATION:Bockgasse 21
END:VEVENT
BEGIN:VEVENT
DTSTART;TZID=Europe/Berlin:20260216T183000
DTEND;TZID=Europe/Berlin:20260216T200000
DTSTAMP:20260420T114309
CREATED:20260209T163433Z
LAST-MODIFIED:20260209T163433Z
UID:2982-1771266600-1771272000@fahrschule-essig.de
SUMMARY:Thema 9 : Verkehrsverhalten bei Fahrmanövern
DESCRIPTION:
URL:https://fahrschule-essig.de/event/thema-9-verkehrsverhalten-bei-fahrmanoevern-41/
LOCATION:Wielandstraße 3
END:VEVENT
BEGIN:VEVENT
DTSTART;TZID=Europe/Berlin:20260217T183000
DTEND;TZID=Europe/Berlin:20260217T200000
DTSTAMP:20260420T114309
CREATED:20260209T163523Z
LAST-MODIFIED:20260209T163523Z
UID:2984-1771353000-1771358400@fahrschule-essig.de
SUMMARY:Thema 10: Ruhender Verkehr
DESCRIPTION:
URL:https://fahrschule-essig.de/event/thema-10-ruhender-verkehr-41/
LOCATION:Bockgasse 21
END:VEVENT
BEGIN:VEVENT
DTSTART;TZID=Europe/Berlin:20260218T183000
DTEND;TZID=Europe/Berlin:20260218T200000
DTSTAMP:20260420T114309
CREATED:20260209T163651Z
LAST-MODIFIED:20260209T163651Z
UID:2986-1771439400-1771444800@fahrschule-essig.de
SUMMARY:Thema 11: Verhalten in besonderen Situationen
DESCRIPTION:
URL:https://fahrschule-essig.de/event/thema-11-verhalten-in-besonderen-situationen-41/
LOCATION:Wielandstraße 3
END:VEVENT
BEGIN:VEVENT
DTSTART;TZID=Europe/Berlin:20260219T183000
DTEND;TZID=Europe/Berlin:20260219T200000
DTSTAMP:20260420T114309
CREATED:20260209T163743Z
LAST-MODIFIED:20260209T163743Z
UID:2988-1771525800-1771531200@fahrschule-essig.de
SUMMARY:Thema 12: Lebenslanges Lernen
DESCRIPTION:
URL:https://fahrschule-essig.de/event/thema-12-lebenslanges-lernen-41/
LOCATION:Bockgasse 21
END:VEVENT
BEGIN:VEVENT
DTSTART;TZID=Europe/Berlin:20260223T183000
DTEND;TZID=Europe/Berlin:20260223T200000
DTSTAMP:20260420T114309
CREATED:20260209T163842Z
LAST-MODIFIED:20260209T163842Z
UID:2990-1771871400-1771876800@fahrschule-essig.de
SUMMARY:Technik 1: Techni. Bed.\, Pers.-Güterbeförderung
DESCRIPTION:
URL:https://fahrschule-essig.de/event/technik-1-techni-bed-pers-gueterbefoerderung-38/
LOCATION:Wielandstraße 3
END:VEVENT
BEGIN:VEVENT
DTSTART;TZID=Europe/Berlin:20260224T183000
DTEND;TZID=Europe/Berlin:20260224T200000
DTSTAMP:20260420T114309
CREATED:20260209T163942Z
LAST-MODIFIED:20260209T163942Z
UID:2992-1771957800-1771963200@fahrschule-essig.de
SUMMARY:Technik 2 : Fahren mit Solokfz. und Züge
DESCRIPTION:
URL:https://fahrschule-essig.de/event/technik-2-fahren-mit-solokfz-und-zuege-40/
LOCATION:Bockgasse 21
END:VEVENT
BEGIN:VEVENT
DTSTART;TZID=Europe/Berlin:20260225T183000
DTEND;TZID=Europe/Berlin:20260225T200000
DTSTAMP:20260420T114309
CREATED:20260209T164126Z
LAST-MODIFIED:20260209T164126Z
UID:2994-1772044200-1772049600@fahrschule-essig.de
SUMMARY:Thema 1 : Persönliche Voraussetzunen
DESCRIPTION:
URL:https://fahrschule-essig.de/event/thema-1-persoenliche-voraussetzunen-36/
LOCATION:Wielandstraße 3
END:VEVENT
BEGIN:VEVENT
DTSTART;TZID=Europe/Berlin:20260226T183000
DTEND;TZID=Europe/Berlin:20260226T200000
DTSTAMP:20260420T114309
CREATED:20260209T164318Z
LAST-MODIFIED:20260209T164318Z
UID:2996-1772130600-1772136000@fahrschule-essig.de
SUMMARY:Thema 2 : Rechtliche Rahmenbedingungen
DESCRIPTION:
URL:https://fahrschule-essig.de/event/thema-2-rechtliche-rahmenbedingungen-40/
LOCATION:Bockgasse 21
END:VEVENT
END:VCALENDAR