BEGIN:VCALENDAR
VERSION:2.0
PRODID:-//Fahrschule Essig und Heinzmann - ECPv6.15.20//NONSGML v1.0//EN
CALSCALE:GREGORIAN
METHOD:PUBLISH
X-ORIGINAL-URL:https://fahrschule-essig.de
X-WR-CALDESC:Veranstaltungen für Fahrschule Essig und Heinzmann
REFRESH-INTERVAL;VALUE=DURATION:PT1H
X-Robots-Tag:noindex
X-PUBLISHED-TTL:PT1H
BEGIN:VTIMEZONE
TZID:Europe/Berlin
BEGIN:DAYLIGHT
TZOFFSETFROM:+0100
TZOFFSETTO:+0200
TZNAME:CEST
DTSTART:20240331T010000
END:DAYLIGHT
BEGIN:STANDARD
TZOFFSETFROM:+0200
TZOFFSETTO:+0100
TZNAME:CET
DTSTART:20241027T010000
END:STANDARD
BEGIN:DAYLIGHT
TZOFFSETFROM:+0100
TZOFFSETTO:+0200
TZNAME:CEST
DTSTART:20250330T010000
END:DAYLIGHT
BEGIN:STANDARD
TZOFFSETFROM:+0200
TZOFFSETTO:+0100
TZNAME:CET
DTSTART:20251026T010000
END:STANDARD
BEGIN:DAYLIGHT
TZOFFSETFROM:+0100
TZOFFSETTO:+0200
TZNAME:CEST
DTSTART:20260329T010000
END:DAYLIGHT
BEGIN:STANDARD
TZOFFSETFROM:+0200
TZOFFSETTO:+0100
TZNAME:CET
DTSTART:20261025T010000
END:STANDARD
END:VTIMEZONE
BEGIN:VEVENT
DTSTART;TZID=Europe/Berlin:20251103T183000
DTEND;TZID=Europe/Berlin:20251103T200000
DTSTAMP:20260422T134358
CREATED:20251102T182024Z
LAST-MODIFIED:20251102T182158Z
UID:2864-1762194600-1762200000@fahrschule-essig.de
SUMMARY:Thema 4 Strassenverkehrssystem
DESCRIPTION:
URL:https://fahrschule-essig.de/event/thema-4-strassenverkehrssystem/
LOCATION:Wielandstraße 3
END:VEVENT
BEGIN:VEVENT
DTSTART;TZID=Europe/Berlin:20251104T183000
DTEND;TZID=Europe/Berlin:20251104T200000
DTSTAMP:20260422T134358
CREATED:20251103T094805Z
LAST-MODIFIED:20251103T094805Z
UID:2866-1762281000-1762286400@fahrschule-essig.de
SUMMARY:Thema 5 : Vorfahrt
DESCRIPTION:
URL:https://fahrschule-essig.de/event/thema-5-vorfahrt-37/
LOCATION:Bockgasse 21
END:VEVENT
BEGIN:VEVENT
DTSTART;TZID=Europe/Berlin:20251105T183000
DTEND;TZID=Europe/Berlin:20251105T200000
DTSTAMP:20260422T134358
CREATED:20251103T094842Z
LAST-MODIFIED:20251103T094842Z
UID:2868-1762367400-1762372800@fahrschule-essig.de
SUMMARY:Thema 6 : Verkehrsregelungen / Bahnübergänge
DESCRIPTION:
URL:https://fahrschule-essig.de/event/thema-6-verkehrsregelungen-bahnuebergaenge-36/
LOCATION:Wielandstraße 3
END:VEVENT
BEGIN:VEVENT
DTSTART;TZID=Europe/Berlin:20251106T183000
DTEND;TZID=Europe/Berlin:20251106T200000
DTSTAMP:20260422T134358
CREATED:20251103T094922Z
LAST-MODIFIED:20251103T094922Z
UID:2870-1762453800-1762459200@fahrschule-essig.de
SUMMARY:Thema 7 : Geschwindigkeit\, Abstand\, Umwelt
DESCRIPTION:
URL:https://fahrschule-essig.de/event/thema-7-geschwindigkeit-abstand-umwelt-39/
LOCATION:Bockgasse 21
END:VEVENT
BEGIN:VEVENT
DTSTART;TZID=Europe/Berlin:20251110T183000
DTEND;TZID=Europe/Berlin:20251110T200000
DTSTAMP:20260422T134358
CREATED:20251103T095006Z
LAST-MODIFIED:20251103T095006Z
UID:2872-1762799400-1762804800@fahrschule-essig.de
SUMMARY:Thema 8 : Andere Teilnehmer im Strassenverkehr
DESCRIPTION:
URL:https://fahrschule-essig.de/event/thema-8-andere-teilnehmer-im-strassenverkehr-36/
LOCATION:Wielandstraße 3
END:VEVENT
BEGIN:VEVENT
DTSTART;TZID=Europe/Berlin:20251111T183000
DTEND;TZID=Europe/Berlin:20251111T200000
DTSTAMP:20260422T134358
CREATED:20251103T095106Z
LAST-MODIFIED:20251103T095106Z
UID:2874-1762885800-1762891200@fahrschule-essig.de
SUMMARY:Thema 9 : Verkehrsverhalten bei Fahrmanövern
DESCRIPTION:
URL:https://fahrschule-essig.de/event/thema-9-verkehrsverhalten-bei-fahrmanoevern-38/
LOCATION:Bockgasse 21
END:VEVENT
BEGIN:VEVENT
DTSTART;TZID=Europe/Berlin:20251112T183000
DTEND;TZID=Europe/Berlin:20251112T200000
DTSTAMP:20260422T134358
CREATED:20251103T095344Z
LAST-MODIFIED:20251103T095344Z
UID:2876-1762972200-1762977600@fahrschule-essig.de
SUMMARY:Thema 10: Ruhender Verkehr
DESCRIPTION:
URL:https://fahrschule-essig.de/event/thema-10-ruhender-verkehr-38/
LOCATION:Wielandstraße 3
END:VEVENT
BEGIN:VEVENT
DTSTART;TZID=Europe/Berlin:20251113T183000
DTEND;TZID=Europe/Berlin:20251113T200000
DTSTAMP:20260422T134358
CREATED:20251103T095450Z
LAST-MODIFIED:20251103T095450Z
UID:2878-1763058600-1763064000@fahrschule-essig.de
SUMMARY:Thema 11: Verhalten in besonderen Situationen
DESCRIPTION:
URL:https://fahrschule-essig.de/event/thema-11-verhalten-in-besonderen-situationen-38/
LOCATION:Bockgasse 21
END:VEVENT
BEGIN:VEVENT
DTSTART;TZID=Europe/Berlin:20251117T183000
DTEND;TZID=Europe/Berlin:20251117T200000
DTSTAMP:20260422T134358
CREATED:20251103T095647Z
LAST-MODIFIED:20251103T095647Z
UID:2880-1763404200-1763409600@fahrschule-essig.de
SUMMARY:Thema 12: Lebenslanges Lernen
DESCRIPTION:
URL:https://fahrschule-essig.de/event/thema-12-lebenslanges-lernen-38/
LOCATION:Wielandstraße 3
END:VEVENT
BEGIN:VEVENT
DTSTART;TZID=Europe/Berlin:20251118T183000
DTEND;TZID=Europe/Berlin:20251118T200000
DTSTAMP:20260422T134358
CREATED:20251103T095733Z
LAST-MODIFIED:20251103T095733Z
UID:2882-1763490600-1763496000@fahrschule-essig.de
SUMMARY:Technik 1: Techni. Bed.\, Pers.-Güterbeförderung
DESCRIPTION:
URL:https://fahrschule-essig.de/event/technik-1-techni-bed-pers-gueterbefoerderung-35/
LOCATION:Bockgasse 21
END:VEVENT
BEGIN:VEVENT
DTSTART;TZID=Europe/Berlin:20251119T183000
DTEND;TZID=Europe/Berlin:20251119T200000
DTSTAMP:20260422T134358
CREATED:20251103T095837Z
LAST-MODIFIED:20251103T095837Z
UID:2884-1763577000-1763582400@fahrschule-essig.de
SUMMARY:Technik 2 : Fahren mit Solokfz. und Züge
DESCRIPTION:
URL:https://fahrschule-essig.de/event/technik-2-fahren-mit-solokfz-und-zuege-37/
LOCATION:Wielandstraße 3
END:VEVENT
BEGIN:VEVENT
DTSTART;TZID=Europe/Berlin:20251120T183000
DTEND;TZID=Europe/Berlin:20251120T200000
DTSTAMP:20260422T134358
CREATED:20251103T095925Z
LAST-MODIFIED:20251103T095925Z
UID:2886-1763663400-1763668800@fahrschule-essig.de
SUMMARY:Thema 1 : Persönliche Voraussetzunen
DESCRIPTION:
URL:https://fahrschule-essig.de/event/thema-1-persoenliche-voraussetzunen-34/
LOCATION:Bockgasse 21
END:VEVENT
BEGIN:VEVENT
DTSTART;TZID=Europe/Berlin:20251124T183000
DTEND;TZID=Europe/Berlin:20251124T200000
DTSTAMP:20260422T134358
CREATED:20251103T100026Z
LAST-MODIFIED:20251103T100026Z
UID:2888-1764009000-1764014400@fahrschule-essig.de
SUMMARY:Thema 2 : Rechtliche Rahmenbedingungen
DESCRIPTION:
URL:https://fahrschule-essig.de/event/thema-2-rechtliche-rahmenbedingungen-38/
LOCATION:Wielandstraße 3
END:VEVENT
BEGIN:VEVENT
DTSTART;TZID=Europe/Berlin:20251125T183000
DTEND;TZID=Europe/Berlin:20251125T200000
DTSTAMP:20260422T134358
CREATED:20251103T100435Z
LAST-MODIFIED:20251103T100435Z
UID:2893-1764095400-1764100800@fahrschule-essig.de
SUMMARY:Thema 3 : Verkehrszeichen / -einrichtungen
DESCRIPTION:
URL:https://fahrschule-essig.de/event/thema-3-verkehrszeichen-einrichtungen-37/
LOCATION:Bockgasse 21
END:VEVENT
BEGIN:VEVENT
DTSTART;TZID=Europe/Berlin:20251126T183000
DTEND;TZID=Europe/Berlin:20251126T200000
DTSTAMP:20260422T134358
CREATED:20251103T100527Z
LAST-MODIFIED:20251103T100527Z
UID:2895-1764181800-1764187200@fahrschule-essig.de
SUMMARY:Thema 4 : Strassenverkehrssystem  u.s.
DESCRIPTION:
URL:https://fahrschule-essig.de/event/thema-4-strassenverkehrssystem-u-s-37/
LOCATION:Wielandstraße 3
END:VEVENT
BEGIN:VEVENT
DTSTART;TZID=Europe/Berlin:20251127T183000
DTEND;TZID=Europe/Berlin:20251127T200000
DTSTAMP:20260422T134358
CREATED:20251103T100624Z
LAST-MODIFIED:20251103T100624Z
UID:2897-1764268200-1764273600@fahrschule-essig.de
SUMMARY:Thema 5 : Vorfahrt
DESCRIPTION:
URL:https://fahrschule-essig.de/event/thema-5-vorfahrt-38/
LOCATION:Bockgasse 21
END:VEVENT
END:VCALENDAR