BEGIN:VCALENDAR
VERSION:2.0
PRODID:-//Fahrschule Essig und Heinzmann - ECPv6.15.20//NONSGML v1.0//EN
CALSCALE:GREGORIAN
METHOD:PUBLISH
X-WR-CALNAME:Fahrschule Essig und Heinzmann
X-ORIGINAL-URL:https://fahrschule-essig.de
X-WR-CALDESC:Veranstaltungen für Fahrschule Essig und Heinzmann
REFRESH-INTERVAL;VALUE=DURATION:PT1H
X-Robots-Tag:noindex
X-PUBLISHED-TTL:PT1H
BEGIN:VTIMEZONE
TZID:Europe/Berlin
BEGIN:DAYLIGHT
TZOFFSETFROM:+0100
TZOFFSETTO:+0200
TZNAME:CEST
DTSTART:20240331T010000
END:DAYLIGHT
BEGIN:STANDARD
TZOFFSETFROM:+0200
TZOFFSETTO:+0100
TZNAME:CET
DTSTART:20241027T010000
END:STANDARD
BEGIN:DAYLIGHT
TZOFFSETFROM:+0100
TZOFFSETTO:+0200
TZNAME:CEST
DTSTART:20250330T010000
END:DAYLIGHT
BEGIN:STANDARD
TZOFFSETFROM:+0200
TZOFFSETTO:+0100
TZNAME:CET
DTSTART:20251026T010000
END:STANDARD
BEGIN:DAYLIGHT
TZOFFSETFROM:+0100
TZOFFSETTO:+0200
TZNAME:CEST
DTSTART:20260329T010000
END:DAYLIGHT
BEGIN:STANDARD
TZOFFSETFROM:+0200
TZOFFSETTO:+0100
TZNAME:CET
DTSTART:20261025T010000
END:STANDARD
END:VTIMEZONE
BEGIN:VEVENT
DTSTART;TZID=Europe/Berlin:20250901T183000
DTEND;TZID=Europe/Berlin:20250901T200000
DTSTAMP:20260422T193506
CREATED:20250901T083625Z
LAST-MODIFIED:20250901T083728Z
UID:2776-1756751400-1756756800@fahrschule-essig.de
SUMMARY:Thema 10: Ruhender Verkehr
DESCRIPTION:
URL:https://fahrschule-essig.de/event/thema-10-ruhender-verkehr-35/
LOCATION:Wielandstraße 3
END:VEVENT
BEGIN:VEVENT
DTSTART;TZID=Europe/Berlin:20250902T183000
DTEND;TZID=Europe/Berlin:20250902T200000
DTSTAMP:20260422T193506
CREATED:20250901T083905Z
LAST-MODIFIED:20250901T083905Z
UID:2779-1756837800-1756843200@fahrschule-essig.de
SUMMARY:Thema 11: Verhalten in besonderen Situationen
DESCRIPTION:
URL:https://fahrschule-essig.de/event/thema-11-verhalten-in-besonderen-situationen-35/
LOCATION:Bockgasse 21
END:VEVENT
BEGIN:VEVENT
DTSTART;TZID=Europe/Berlin:20250903T183000
DTEND;TZID=Europe/Berlin:20250903T200000
DTSTAMP:20260422T193506
CREATED:20250901T083951Z
LAST-MODIFIED:20250901T083951Z
UID:2781-1756924200-1756929600@fahrschule-essig.de
SUMMARY:Thema 12: Lebenslanges Lernen
DESCRIPTION:
URL:https://fahrschule-essig.de/event/thema-12-lebenslanges-lernen-35/
LOCATION:Wielandstraße 3
END:VEVENT
BEGIN:VEVENT
DTSTART;TZID=Europe/Berlin:20250904T183000
DTEND;TZID=Europe/Berlin:20250904T200000
DTSTAMP:20260422T193506
CREATED:20250901T084048Z
LAST-MODIFIED:20250901T084048Z
UID:2783-1757010600-1757016000@fahrschule-essig.de
SUMMARY:Technik 1: Techni. Bed.\, Pers.-Güterbeförderung
DESCRIPTION:
URL:https://fahrschule-essig.de/event/technik-1-techni-bed-pers-gueterbefoerderung-32/
LOCATION:Bockgasse 21
END:VEVENT
BEGIN:VEVENT
DTSTART;TZID=Europe/Berlin:20250908T183000
DTEND;TZID=Europe/Berlin:20250908T200000
DTSTAMP:20260422T193506
CREATED:20250901T084253Z
LAST-MODIFIED:20250901T084253Z
UID:2785-1757356200-1757361600@fahrschule-essig.de
SUMMARY:Technik 2 : Fahren mit Solokfz. und Züge
DESCRIPTION:
URL:https://fahrschule-essig.de/event/technik-2-fahren-mit-solokfz-und-zuege-34/
LOCATION:Wielandstraße 3
END:VEVENT
BEGIN:VEVENT
DTSTART;TZID=Europe/Berlin:20250909T183000
DTEND;TZID=Europe/Berlin:20250909T200000
DTSTAMP:20260422T193506
CREATED:20250901T084943Z
LAST-MODIFIED:20250901T084943Z
UID:2787-1757442600-1757448000@fahrschule-essig.de
SUMMARY:Thema 1 : Persönliche Voraussetzunen
DESCRIPTION:
URL:https://fahrschule-essig.de/event/thema-1-persoenliche-voraussetzunen-31/
LOCATION:Bockgasse 21
END:VEVENT
BEGIN:VEVENT
DTSTART;TZID=Europe/Berlin:20250910T183000
DTEND;TZID=Europe/Berlin:20250910T200000
DTSTAMP:20260422T193506
CREATED:20250901T085105Z
LAST-MODIFIED:20250901T085105Z
UID:2789-1757529000-1757534400@fahrschule-essig.de
SUMMARY:Thema 2 : Rechtliche Rahmenbedingungen
DESCRIPTION:
URL:https://fahrschule-essig.de/event/thema-2-rechtliche-rahmenbedingungen-35/
LOCATION:Wielandstraße 3
END:VEVENT
BEGIN:VEVENT
DTSTART;TZID=Europe/Berlin:20250911T183000
DTEND;TZID=Europe/Berlin:20250911T200000
DTSTAMP:20260422T193506
CREATED:20250901T085158Z
LAST-MODIFIED:20250901T085158Z
UID:2791-1757615400-1757620800@fahrschule-essig.de
SUMMARY:Thema 3 : Verkehrszeichen / -einrichtungen
DESCRIPTION:
URL:https://fahrschule-essig.de/event/thema-3-verkehrszeichen-einrichtungen-34/
LOCATION:Bockgasse 21
END:VEVENT
BEGIN:VEVENT
DTSTART;TZID=Europe/Berlin:20250915T183000
DTEND;TZID=Europe/Berlin:20250915T200000
DTSTAMP:20260422T193506
CREATED:20250901T085244Z
LAST-MODIFIED:20250901T085244Z
UID:2793-1757961000-1757966400@fahrschule-essig.de
SUMMARY:Thema 4 : Strassenverkehrssystem  u.s.
DESCRIPTION:
URL:https://fahrschule-essig.de/event/thema-4-strassenverkehrssystem-u-s-35/
LOCATION:Wielandstraße 3
END:VEVENT
BEGIN:VEVENT
DTSTART;TZID=Europe/Berlin:20250916T183000
DTEND;TZID=Europe/Berlin:20250916T200000
DTSTAMP:20260422T193506
CREATED:20250901T085328Z
LAST-MODIFIED:20250901T085328Z
UID:2795-1758047400-1758052800@fahrschule-essig.de
SUMMARY:Thema 5 : Vorfahrt
DESCRIPTION:
URL:https://fahrschule-essig.de/event/thema-5-vorfahrt-35/
LOCATION:Bockgasse 21
END:VEVENT
BEGIN:VEVENT
DTSTART;TZID=Europe/Berlin:20250917T183000
DTEND;TZID=Europe/Berlin:20250917T200000
DTSTAMP:20260422T193506
CREATED:20250901T085424Z
LAST-MODIFIED:20250901T085424Z
UID:2797-1758133800-1758139200@fahrschule-essig.de
SUMMARY:Thema 6 : Verkehrsregelungen / Bahnübergänge
DESCRIPTION:
URL:https://fahrschule-essig.de/event/thema-6-verkehrsregelungen-bahnuebergaenge-34/
LOCATION:Wielandstraße 3
END:VEVENT
BEGIN:VEVENT
DTSTART;TZID=Europe/Berlin:20250918T183000
DTEND;TZID=Europe/Berlin:20250918T200000
DTSTAMP:20260422T193506
CREATED:20250901T085504Z
LAST-MODIFIED:20250901T085504Z
UID:2799-1758220200-1758225600@fahrschule-essig.de
SUMMARY:Thema 7 : Geschwindigkeit\, Abstand\, Umwelt
DESCRIPTION:
URL:https://fahrschule-essig.de/event/thema-7-geschwindigkeit-abstand-umwelt-37/
LOCATION:Bockgasse 21
END:VEVENT
BEGIN:VEVENT
DTSTART;TZID=Europe/Berlin:20250922T183000
DTEND;TZID=Europe/Berlin:20250922T200000
DTSTAMP:20260422T193506
CREATED:20250901T085547Z
LAST-MODIFIED:20250901T085547Z
UID:2801-1758565800-1758571200@fahrschule-essig.de
SUMMARY:Thema 8 : Andere Teilnehmer im Strassenverkehr
DESCRIPTION:
URL:https://fahrschule-essig.de/event/thema-8-andere-teilnehmer-im-strassenverkehr-34/
LOCATION:Wielandstraße 3
END:VEVENT
BEGIN:VEVENT
DTSTART;TZID=Europe/Berlin:20250923T183000
DTEND;TZID=Europe/Berlin:20250923T200000
DTSTAMP:20260422T193506
CREATED:20250901T085626Z
LAST-MODIFIED:20250901T085626Z
UID:2803-1758652200-1758657600@fahrschule-essig.de
SUMMARY:Thema 9 : Verkehrsverhalten bei Fahrmanövern
DESCRIPTION:
URL:https://fahrschule-essig.de/event/thema-9-verkehrsverhalten-bei-fahrmanoevern-36/
LOCATION:Bockgasse 21
END:VEVENT
BEGIN:VEVENT
DTSTART;TZID=Europe/Berlin:20250924T183000
DTEND;TZID=Europe/Berlin:20250924T200000
DTSTAMP:20260422T193506
CREATED:20250901T085707Z
LAST-MODIFIED:20250901T085707Z
UID:2805-1758738600-1758744000@fahrschule-essig.de
SUMMARY:Thema 10: Ruhender Verkehr
DESCRIPTION:
URL:https://fahrschule-essig.de/event/thema-10-ruhender-verkehr-36/
LOCATION:Wielandstraße 3
END:VEVENT
BEGIN:VEVENT
DTSTART;TZID=Europe/Berlin:20250925T183000
DTEND;TZID=Europe/Berlin:20250925T200000
DTSTAMP:20260422T193506
CREATED:20250901T085744Z
LAST-MODIFIED:20250901T085744Z
UID:2807-1758825000-1758830400@fahrschule-essig.de
SUMMARY:Thema 11: Verhalten in besonderen Situationen
DESCRIPTION:
URL:https://fahrschule-essig.de/event/thema-11-verhalten-in-besonderen-situationen-36/
LOCATION:Bockgasse 21
END:VEVENT
BEGIN:VEVENT
DTSTART;TZID=Europe/Berlin:20250929T183000
DTEND;TZID=Europe/Berlin:20250929T200000
DTSTAMP:20260422T193506
CREATED:20250901T085826Z
LAST-MODIFIED:20250901T085826Z
UID:2809-1759170600-1759176000@fahrschule-essig.de
SUMMARY:Thema 12: Lebenslanges Lernen
DESCRIPTION:
URL:https://fahrschule-essig.de/event/thema-12-lebenslanges-lernen-36/
LOCATION:Wielandstraße 3
END:VEVENT
BEGIN:VEVENT
DTSTART;TZID=Europe/Berlin:20250930T183000
DTEND;TZID=Europe/Berlin:20250930T200000
DTSTAMP:20260422T193506
CREATED:20250901T085921Z
LAST-MODIFIED:20250901T085921Z
UID:2811-1759257000-1759262400@fahrschule-essig.de
SUMMARY:Technik 1: Techni. Bed.\, Pers.-Güterbeförderung
DESCRIPTION:
URL:https://fahrschule-essig.de/event/technik-1-techni-bed-pers-gueterbefoerderung-33/
LOCATION:Bockgasse 21
END:VEVENT
END:VCALENDAR