BEGIN:VCALENDAR
VERSION:2.0
PRODID:-//Fahrschule Essig und Heinzmann - ECPv6.15.20//NONSGML v1.0//EN
CALSCALE:GREGORIAN
METHOD:PUBLISH
X-WR-CALNAME:Fahrschule Essig und Heinzmann
X-ORIGINAL-URL:https://fahrschule-essig.de
X-WR-CALDESC:Veranstaltungen für Fahrschule Essig und Heinzmann
REFRESH-INTERVAL;VALUE=DURATION:PT1H
X-Robots-Tag:noindex
X-PUBLISHED-TTL:PT1H
BEGIN:VTIMEZONE
TZID:Europe/Berlin
BEGIN:DAYLIGHT
TZOFFSETFROM:+0100
TZOFFSETTO:+0200
TZNAME:CEST
DTSTART:20240331T010000
END:DAYLIGHT
BEGIN:STANDARD
TZOFFSETFROM:+0200
TZOFFSETTO:+0100
TZNAME:CET
DTSTART:20241027T010000
END:STANDARD
BEGIN:DAYLIGHT
TZOFFSETFROM:+0100
TZOFFSETTO:+0200
TZNAME:CEST
DTSTART:20250330T010000
END:DAYLIGHT
BEGIN:STANDARD
TZOFFSETFROM:+0200
TZOFFSETTO:+0100
TZNAME:CET
DTSTART:20251026T010000
END:STANDARD
BEGIN:DAYLIGHT
TZOFFSETFROM:+0100
TZOFFSETTO:+0200
TZNAME:CEST
DTSTART:20260329T010000
END:DAYLIGHT
BEGIN:STANDARD
TZOFFSETFROM:+0200
TZOFFSETTO:+0100
TZNAME:CET
DTSTART:20261025T010000
END:STANDARD
END:VTIMEZONE
BEGIN:VEVENT
DTSTART;TZID=Europe/Berlin:20250804T183000
DTEND;TZID=Europe/Berlin:20250804T200000
DTSTAMP:20260423T025234
CREATED:20250802T173337Z
LAST-MODIFIED:20250802T173337Z
UID:2736-1754332200-1754337600@fahrschule-essig.de
SUMMARY:Thema 8 : Andere Teilnehmer im Strassenverkehr
DESCRIPTION:
URL:https://fahrschule-essig.de/event/thema-8-andere-teilnehmer-im-strassenverkehr-32/
LOCATION:Wielandstraße 3
END:VEVENT
BEGIN:VEVENT
DTSTART;TZID=Europe/Berlin:20250805T183000
DTEND;TZID=Europe/Berlin:20250805T200000
DTSTAMP:20260423T025234
CREATED:20250802T173424Z
LAST-MODIFIED:20250802T173424Z
UID:2738-1754418600-1754424000@fahrschule-essig.de
SUMMARY:Thema 9 : Verkehrsverhalten bei Fahrmanövern
DESCRIPTION:
URL:https://fahrschule-essig.de/event/thema-9-verkehrsverhalten-bei-fahrmanoevern-34/
LOCATION:Bockgasse 21
END:VEVENT
BEGIN:VEVENT
DTSTART;TZID=Europe/Berlin:20250806T183000
DTEND;TZID=Europe/Berlin:20250806T200000
DTSTAMP:20260423T025234
CREATED:20250802T173510Z
LAST-MODIFIED:20250802T173511Z
UID:2740-1754505000-1754510400@fahrschule-essig.de
SUMMARY:Thema 10: Ruhender Verkehr
DESCRIPTION:
URL:https://fahrschule-essig.de/event/thema-10-ruhender-verkehr-34/
LOCATION:Wielandstraße 3
END:VEVENT
BEGIN:VEVENT
DTSTART;TZID=Europe/Berlin:20250807T183000
DTEND;TZID=Europe/Berlin:20250807T200000
DTSTAMP:20260423T025234
CREATED:20250802T173604Z
LAST-MODIFIED:20250802T173604Z
UID:2742-1754591400-1754596800@fahrschule-essig.de
SUMMARY:Thema 11: Verhalten in besonderen Situationen
DESCRIPTION:
URL:https://fahrschule-essig.de/event/thema-11-verhalten-in-besonderen-situationen-34/
LOCATION:Bockgasse 21
END:VEVENT
BEGIN:VEVENT
DTSTART;TZID=Europe/Berlin:20250811T183000
DTEND;TZID=Europe/Berlin:20250811T200000
DTSTAMP:20260423T025234
CREATED:20250802T173650Z
LAST-MODIFIED:20250802T173650Z
UID:2744-1754937000-1754942400@fahrschule-essig.de
SUMMARY:Thema 12: Lebenslanges Lernen
DESCRIPTION:
URL:https://fahrschule-essig.de/event/thema-12-lebenslanges-lernen-34/
LOCATION:Wielandstraße 3
END:VEVENT
BEGIN:VEVENT
DTSTART;TZID=Europe/Berlin:20250812T183000
DTEND;TZID=Europe/Berlin:20250812T200000
DTSTAMP:20260423T025234
CREATED:20250802T173737Z
LAST-MODIFIED:20250802T173737Z
UID:2746-1755023400-1755028800@fahrschule-essig.de
SUMMARY:Technik 1: Techni. Bed.\, Pers.-Güterbeförderung
DESCRIPTION:
URL:https://fahrschule-essig.de/event/technik-1-techni-bed-pers-gueterbefoerderung-31/
LOCATION:Bockgasse 21
END:VEVENT
BEGIN:VEVENT
DTSTART;TZID=Europe/Berlin:20250813T183000
DTEND;TZID=Europe/Berlin:20250813T200000
DTSTAMP:20260423T025234
CREATED:20250802T173818Z
LAST-MODIFIED:20250802T173818Z
UID:2748-1755109800-1755115200@fahrschule-essig.de
SUMMARY:Technik 2 : Fahren mit Solokfz. und Züge
DESCRIPTION:
URL:https://fahrschule-essig.de/event/technik-2-fahren-mit-solokfz-und-zuege-33/
LOCATION:Wielandstraße 3
END:VEVENT
BEGIN:VEVENT
DTSTART;TZID=Europe/Berlin:20250814T183000
DTEND;TZID=Europe/Berlin:20250814T200000
DTSTAMP:20260423T025234
CREATED:20250802T173903Z
LAST-MODIFIED:20250802T173919Z
UID:2750-1755196200-1755201600@fahrschule-essig.de
SUMMARY:Thema 1 : Persönliche Voraussetzunen
DESCRIPTION:
URL:https://fahrschule-essig.de/event/thema-1-persoenliche-voraussetzunen-30/
LOCATION:Bockgasse 21
END:VEVENT
BEGIN:VEVENT
DTSTART;TZID=Europe/Berlin:20250818T183000
DTEND;TZID=Europe/Berlin:20250818T200000
DTSTAMP:20260423T025234
CREATED:20250802T174006Z
LAST-MODIFIED:20250802T174006Z
UID:2753-1755541800-1755547200@fahrschule-essig.de
SUMMARY:Thema 2 : Rechtliche Rahmenbedingungen
DESCRIPTION:
URL:https://fahrschule-essig.de/event/thema-2-rechtliche-rahmenbedingungen-34/
LOCATION:Wielandstraße 3
END:VEVENT
BEGIN:VEVENT
DTSTART;TZID=Europe/Berlin:20250819T183000
DTEND;TZID=Europe/Berlin:20250819T200000
DTSTAMP:20260423T025234
CREATED:20250802T174052Z
LAST-MODIFIED:20250802T174052Z
UID:2755-1755628200-1755633600@fahrschule-essig.de
SUMMARY:Thema 3 : Verkehrszeichen / -einrichtungen
DESCRIPTION:
URL:https://fahrschule-essig.de/event/thema-3-verkehrszeichen-einrichtungen-33/
LOCATION:Bockgasse 21
END:VEVENT
BEGIN:VEVENT
DTSTART;TZID=Europe/Berlin:20250820T183000
DTEND;TZID=Europe/Berlin:20250820T200000
DTSTAMP:20260423T025234
CREATED:20250802T174141Z
LAST-MODIFIED:20250802T174141Z
UID:2757-1755714600-1755720000@fahrschule-essig.de
SUMMARY:Thema 4 : Strassenverkehrssystem  u.s.
DESCRIPTION:
URL:https://fahrschule-essig.de/event/thema-4-strassenverkehrssystem-u-s-34/
LOCATION:Wielandstraße 3
END:VEVENT
BEGIN:VEVENT
DTSTART;TZID=Europe/Berlin:20250821T183000
DTEND;TZID=Europe/Berlin:20250821T200000
DTSTAMP:20260423T025234
CREATED:20250802T174239Z
LAST-MODIFIED:20250802T174239Z
UID:2759-1755801000-1755806400@fahrschule-essig.de
SUMMARY:Thema 5 : Vorfahrt
DESCRIPTION:
URL:https://fahrschule-essig.de/event/thema-5-vorfahrt-34/
LOCATION:Bockgasse 21
END:VEVENT
BEGIN:VEVENT
DTSTART;TZID=Europe/Berlin:20250825T183000
DTEND;TZID=Europe/Berlin:20250825T200000
DTSTAMP:20260423T025234
CREATED:20250802T174323Z
LAST-MODIFIED:20250802T174323Z
UID:2761-1756146600-1756152000@fahrschule-essig.de
SUMMARY:Thema 6 : Verkehrsregelungen / Bahnübergänge
DESCRIPTION:
URL:https://fahrschule-essig.de/event/thema-6-verkehrsregelungen-bahnuebergaenge-33/
LOCATION:Wielandstraße 3
END:VEVENT
BEGIN:VEVENT
DTSTART;TZID=Europe/Berlin:20250826T183000
DTEND;TZID=Europe/Berlin:20250826T200000
DTSTAMP:20260423T025234
CREATED:20250802T174405Z
LAST-MODIFIED:20250802T174406Z
UID:2763-1756233000-1756238400@fahrschule-essig.de
SUMMARY:Thema 7 : Geschwindigkeit\, Abstand\, Umwelt
DESCRIPTION:
URL:https://fahrschule-essig.de/event/thema-7-geschwindigkeit-abstand-umwelt-36/
LOCATION:Bockgasse 21
END:VEVENT
BEGIN:VEVENT
DTSTART;TZID=Europe/Berlin:20250827T183000
DTEND;TZID=Europe/Berlin:20250827T200000
DTSTAMP:20260423T025234
CREATED:20250802T174534Z
LAST-MODIFIED:20250802T174534Z
UID:2766-1756319400-1756324800@fahrschule-essig.de
SUMMARY:Thema 8 : Andere Teilnehmer im Strassenverkehr
DESCRIPTION:
URL:https://fahrschule-essig.de/event/thema-8-andere-teilnehmer-im-strassenverkehr-33/
LOCATION:Wielandstraße 3
END:VEVENT
BEGIN:VEVENT
DTSTART;TZID=Europe/Berlin:20250828T183000
DTEND;TZID=Europe/Berlin:20250828T200000
DTSTAMP:20260423T025234
CREATED:20250802T174622Z
LAST-MODIFIED:20250802T174622Z
UID:2768-1756405800-1756411200@fahrschule-essig.de
SUMMARY:Thema 9 : Verkehrsverhalten bei Fahrmanövern
DESCRIPTION:
URL:https://fahrschule-essig.de/event/thema-9-verkehrsverhalten-bei-fahrmanoevern-35/
LOCATION:Bockgasse 21
END:VEVENT
END:VCALENDAR