BEGIN:VCALENDAR
VERSION:2.0
PRODID:-//Fahrschule Essig und Heinzmann - ECPv6.15.20//NONSGML v1.0//EN
CALSCALE:GREGORIAN
METHOD:PUBLISH
X-WR-CALNAME:Fahrschule Essig und Heinzmann
X-ORIGINAL-URL:https://fahrschule-essig.de
X-WR-CALDESC:Veranstaltungen für Fahrschule Essig und Heinzmann
REFRESH-INTERVAL;VALUE=DURATION:PT1H
X-Robots-Tag:noindex
X-PUBLISHED-TTL:PT1H
BEGIN:VTIMEZONE
TZID:Europe/Berlin
BEGIN:DAYLIGHT
TZOFFSETFROM:+0100
TZOFFSETTO:+0200
TZNAME:CEST
DTSTART:20240331T010000
END:DAYLIGHT
BEGIN:STANDARD
TZOFFSETFROM:+0200
TZOFFSETTO:+0100
TZNAME:CET
DTSTART:20241027T010000
END:STANDARD
BEGIN:DAYLIGHT
TZOFFSETFROM:+0100
TZOFFSETTO:+0200
TZNAME:CEST
DTSTART:20250330T010000
END:DAYLIGHT
BEGIN:STANDARD
TZOFFSETFROM:+0200
TZOFFSETTO:+0100
TZNAME:CET
DTSTART:20251026T010000
END:STANDARD
BEGIN:DAYLIGHT
TZOFFSETFROM:+0100
TZOFFSETTO:+0200
TZNAME:CEST
DTSTART:20260329T010000
END:DAYLIGHT
BEGIN:STANDARD
TZOFFSETFROM:+0200
TZOFFSETTO:+0100
TZNAME:CET
DTSTART:20261025T010000
END:STANDARD
END:VTIMEZONE
BEGIN:VEVENT
DTSTART;TZID=Europe/Berlin:20250701T183000
DTEND;TZID=Europe/Berlin:20250701T200000
DTSTAMP:20260423T025209
CREATED:20250702T201225Z
LAST-MODIFIED:20250702T201225Z
UID:2694-1751394600-1751400000@fahrschule-essig.de
SUMMARY:Thema 4 : Strassenverkehrssystem  u.s.
DESCRIPTION:
URL:https://fahrschule-essig.de/event/thema-4-strassenverkehrssystem-u-s-32/
LOCATION:Bockgasse 21
END:VEVENT
BEGIN:VEVENT
DTSTART;TZID=Europe/Berlin:20250702T183000
DTEND;TZID=Europe/Berlin:20250702T200000
DTSTAMP:20260423T025209
CREATED:20250702T201305Z
LAST-MODIFIED:20250702T201305Z
UID:2696-1751481000-1751486400@fahrschule-essig.de
SUMMARY:Thema 5 : Vorfahrt
DESCRIPTION:
URL:https://fahrschule-essig.de/event/thema-5-vorfahrt-32/
LOCATION:Wielandstraße 3
END:VEVENT
BEGIN:VEVENT
DTSTART;TZID=Europe/Berlin:20250703T183000
DTEND;TZID=Europe/Berlin:20250703T200000
DTSTAMP:20260423T025209
CREATED:20250702T201356Z
LAST-MODIFIED:20250702T201703Z
UID:2698-1751567400-1751572800@fahrschule-essig.de
SUMMARY:Thema 6 : Verkehrsregelungen / Bahnübergänge
DESCRIPTION:
URL:https://fahrschule-essig.de/event/thema-6-verkehrsregelungen-bahnuebergaenge-31/
LOCATION:Bockgasse 21
END:VEVENT
BEGIN:VEVENT
DTSTART;TZID=Europe/Berlin:20250707T183000
DTEND;TZID=Europe/Berlin:20250707T200000
DTSTAMP:20260423T025209
CREATED:20250702T201501Z
LAST-MODIFIED:20250702T201501Z
UID:2700-1751913000-1751918400@fahrschule-essig.de
SUMMARY:Thema 7 : Geschwindigkeit\, Abstand\, Umwelt
DESCRIPTION:
URL:https://fahrschule-essig.de/event/thema-7-geschwindigkeit-abstand-umwelt-34/
LOCATION:Wielandstraße 3
END:VEVENT
BEGIN:VEVENT
DTSTART;TZID=Europe/Berlin:20250708T183000
DTEND;TZID=Europe/Berlin:20250708T200000
DTSTAMP:20260423T025209
CREATED:20250702T201820Z
LAST-MODIFIED:20250702T201820Z
UID:2703-1751999400-1752004800@fahrschule-essig.de
SUMMARY:hema 8 : Andere Teilnehmer im Strassenverkehr
DESCRIPTION:
URL:https://fahrschule-essig.de/event/hema-8-andere-teilnehmer-im-strassenverkehr/
LOCATION:Bockgasse 21
END:VEVENT
BEGIN:VEVENT
DTSTART;TZID=Europe/Berlin:20250709T183000
DTEND;TZID=Europe/Berlin:20250709T200000
DTSTAMP:20260423T025209
CREATED:20250702T201918Z
LAST-MODIFIED:20250702T201918Z
UID:2705-1752085800-1752091200@fahrschule-essig.de
SUMMARY:Thema 9 : Verkehrsverhalten bei Fahrmanövern
DESCRIPTION:
URL:https://fahrschule-essig.de/event/thema-9-verkehrsverhalten-bei-fahrmanoevern-33/
LOCATION:Wielandstraße 3
END:VEVENT
BEGIN:VEVENT
DTSTART;TZID=Europe/Berlin:20250710T183000
DTEND;TZID=Europe/Berlin:20250710T200000
DTSTAMP:20260423T025209
CREATED:20250702T202122Z
LAST-MODIFIED:20250702T202122Z
UID:2707-1752172200-1752177600@fahrschule-essig.de
SUMMARY:Thema 10: Ruhender Verkehr
DESCRIPTION:
URL:https://fahrschule-essig.de/event/thema-10-ruhender-verkehr-33/
LOCATION:Bockgasse 21
END:VEVENT
BEGIN:VEVENT
DTSTART;TZID=Europe/Berlin:20250714T183000
DTEND;TZID=Europe/Berlin:20250714T200000
DTSTAMP:20260423T025209
CREATED:20250702T202212Z
LAST-MODIFIED:20250702T202212Z
UID:2709-1752517800-1752523200@fahrschule-essig.de
SUMMARY:Thema 11: Verhalten in besonderen Situationen
DESCRIPTION:
URL:https://fahrschule-essig.de/event/thema-11-verhalten-in-besonderen-situationen-33/
LOCATION:Wielandstraße 3
END:VEVENT
BEGIN:VEVENT
DTSTART;TZID=Europe/Berlin:20250715T183000
DTEND;TZID=Europe/Berlin:20250715T200000
DTSTAMP:20260423T025209
CREATED:20250702T202254Z
LAST-MODIFIED:20250702T202254Z
UID:2711-1752604200-1752609600@fahrschule-essig.de
SUMMARY:Thema 12: Lebenslanges Lernen
DESCRIPTION:
URL:https://fahrschule-essig.de/event/thema-12-lebenslanges-lernen-33/
LOCATION:Bockgasse 21
END:VEVENT
BEGIN:VEVENT
DTSTART;TZID=Europe/Berlin:20250716T183000
DTEND;TZID=Europe/Berlin:20250716T200000
DTSTAMP:20260423T025209
CREATED:20250702T202403Z
LAST-MODIFIED:20250702T202403Z
UID:2713-1752690600-1752696000@fahrschule-essig.de
SUMMARY:Technik 1: Techni. Bed.\, Pers.-Güterbeförderung
DESCRIPTION:
URL:https://fahrschule-essig.de/event/technik-1-techni-bed-pers-gueterbefoerderung-30/
LOCATION:Wielandstraße 3
END:VEVENT
BEGIN:VEVENT
DTSTART;TZID=Europe/Berlin:20250717T183000
DTEND;TZID=Europe/Berlin:20250717T200000
DTSTAMP:20260423T025209
CREATED:20250702T202500Z
LAST-MODIFIED:20250702T202500Z
UID:2715-1752777000-1752782400@fahrschule-essig.de
SUMMARY:Technik 2 : Fahren mit Solokfz. und Züge
DESCRIPTION:
URL:https://fahrschule-essig.de/event/technik-2-fahren-mit-solokfz-und-zuege-32/
LOCATION:Bockgasse 21
END:VEVENT
BEGIN:VEVENT
DTSTART;TZID=Europe/Berlin:20250721T183000
DTEND;TZID=Europe/Berlin:20250721T200000
DTSTAMP:20260423T025209
CREATED:20250702T202550Z
LAST-MODIFIED:20250702T202550Z
UID:2717-1753122600-1753128000@fahrschule-essig.de
SUMMARY:Schwörmontag geschlossen
DESCRIPTION:
URL:https://fahrschule-essig.de/event/schwoermontag-geschlossen/
LOCATION:Wielandstraße 3
END:VEVENT
BEGIN:VEVENT
DTSTART;TZID=Europe/Berlin:20250722T183000
DTEND;TZID=Europe/Berlin:20250722T200000
DTSTAMP:20260423T025209
CREATED:20250702T202650Z
LAST-MODIFIED:20250702T202650Z
UID:2719-1753209000-1753214400@fahrschule-essig.de
SUMMARY:Thema 1 : Persönliche Voraussetzunen
DESCRIPTION:
URL:https://fahrschule-essig.de/event/thema-1-persoenliche-voraussetzunen-29/
LOCATION:Bockgasse 21
END:VEVENT
BEGIN:VEVENT
DTSTART;TZID=Europe/Berlin:20250723T183000
DTEND;TZID=Europe/Berlin:20250723T200000
DTSTAMP:20260423T025209
CREATED:20250702T202749Z
LAST-MODIFIED:20250702T202749Z
UID:2721-1753295400-1753300800@fahrschule-essig.de
SUMMARY:Thema 2 : Rechtliche Rahmenbedingungen
DESCRIPTION:
URL:https://fahrschule-essig.de/event/thema-2-rechtliche-rahmenbedingungen-33/
LOCATION:Wielandstraße 3
END:VEVENT
BEGIN:VEVENT
DTSTART;TZID=Europe/Berlin:20250724T183000
DTEND;TZID=Europe/Berlin:20250724T200000
DTSTAMP:20260423T025209
CREATED:20250702T202830Z
LAST-MODIFIED:20250702T202830Z
UID:2723-1753381800-1753387200@fahrschule-essig.de
SUMMARY:Thema 3 : Verkehrszeichen / -einrichtungen
DESCRIPTION:
URL:https://fahrschule-essig.de/event/thema-3-verkehrszeichen-einrichtungen-32/
LOCATION:Bockgasse 21
END:VEVENT
BEGIN:VEVENT
DTSTART;TZID=Europe/Berlin:20250728T183000
DTEND;TZID=Europe/Berlin:20250728T200000
DTSTAMP:20260423T025209
CREATED:20250702T202912Z
LAST-MODIFIED:20250702T202912Z
UID:2725-1753727400-1753732800@fahrschule-essig.de
SUMMARY:Thema 4 : Strassenverkehrssystem  u.s.
DESCRIPTION:
URL:https://fahrschule-essig.de/event/thema-4-strassenverkehrssystem-u-s-33/
LOCATION:Wielandstraße 3
END:VEVENT
BEGIN:VEVENT
DTSTART;TZID=Europe/Berlin:20250729T183000
DTEND;TZID=Europe/Berlin:20250729T200000
DTSTAMP:20260423T025209
CREATED:20250702T203004Z
LAST-MODIFIED:20250702T203004Z
UID:2727-1753813800-1753819200@fahrschule-essig.de
SUMMARY:Thema 5 : Vorfahrt
DESCRIPTION:
URL:https://fahrschule-essig.de/event/thema-5-vorfahrt-33/
LOCATION:Bockgasse 21
END:VEVENT
BEGIN:VEVENT
DTSTART;TZID=Europe/Berlin:20250730T183000
DTEND;TZID=Europe/Berlin:20250730T200000
DTSTAMP:20260423T025209
CREATED:20250702T203124Z
LAST-MODIFIED:20250702T203124Z
UID:2729-1753900200-1753905600@fahrschule-essig.de
SUMMARY:Thema 6 : Verkehrsregelungen / Bahnübergänge
DESCRIPTION:
URL:https://fahrschule-essig.de/event/thema-6-verkehrsregelungen-bahnuebergaenge-32/
LOCATION:Wielandstraße 3
END:VEVENT
BEGIN:VEVENT
DTSTART;TZID=Europe/Berlin:20250731T183000
DTEND;TZID=Europe/Berlin:20250731T200000
DTSTAMP:20260423T025209
CREATED:20250702T203229Z
LAST-MODIFIED:20250702T203229Z
UID:2731-1753986600-1753992000@fahrschule-essig.de
SUMMARY:Thema 7 : Geschwindigkeit\, Abstand\, Umwelt
DESCRIPTION:
URL:https://fahrschule-essig.de/event/thema-7-geschwindigkeit-abstand-umwelt-35/
LOCATION:Bockgasse 21
END:VEVENT
END:VCALENDAR