BEGIN:VCALENDAR
VERSION:2.0
PRODID:-//Fahrschule Essig und Heinzmann - ECPv6.15.20//NONSGML v1.0//EN
CALSCALE:GREGORIAN
METHOD:PUBLISH
X-WR-CALNAME:Fahrschule Essig und Heinzmann
X-ORIGINAL-URL:https://fahrschule-essig.de
X-WR-CALDESC:Veranstaltungen für Fahrschule Essig und Heinzmann
REFRESH-INTERVAL;VALUE=DURATION:PT1H
X-Robots-Tag:noindex
X-PUBLISHED-TTL:PT1H
BEGIN:VTIMEZONE
TZID:Europe/Berlin
BEGIN:DAYLIGHT
TZOFFSETFROM:+0100
TZOFFSETTO:+0200
TZNAME:CEST
DTSTART:20240331T010000
END:DAYLIGHT
BEGIN:STANDARD
TZOFFSETFROM:+0200
TZOFFSETTO:+0100
TZNAME:CET
DTSTART:20241027T010000
END:STANDARD
BEGIN:DAYLIGHT
TZOFFSETFROM:+0100
TZOFFSETTO:+0200
TZNAME:CEST
DTSTART:20250330T010000
END:DAYLIGHT
BEGIN:STANDARD
TZOFFSETFROM:+0200
TZOFFSETTO:+0100
TZNAME:CET
DTSTART:20251026T010000
END:STANDARD
BEGIN:DAYLIGHT
TZOFFSETFROM:+0100
TZOFFSETTO:+0200
TZNAME:CEST
DTSTART:20260329T010000
END:DAYLIGHT
BEGIN:STANDARD
TZOFFSETFROM:+0200
TZOFFSETTO:+0100
TZNAME:CET
DTSTART:20261025T010000
END:STANDARD
END:VTIMEZONE
BEGIN:VEVENT
DTSTART;TZID=Europe/Berlin:20250501T183000
DTEND;TZID=Europe/Berlin:20250501T200000
DTSTAMP:20260423T041345
CREATED:20250330T173322Z
LAST-MODIFIED:20250330T173322Z
UID:2619-1746124200-1746129600@fahrschule-essig.de
SUMMARY:Feiertag Geschlossen
DESCRIPTION:
URL:https://fahrschule-essig.de/event/feiertag-geschlossen-5/
LOCATION:Bockgasse 21
END:VEVENT
BEGIN:VEVENT
DTSTART;TZID=Europe/Berlin:20250506T183000
DTEND;TZID=Europe/Berlin:20250506T200000
DTSTAMP:20260423T041345
CREATED:20250505T195314Z
LAST-MODIFIED:20250505T195314Z
UID:2624-1746556200-1746561600@fahrschule-essig.de
SUMMARY:Thema 4 : Strassenverkehrssystem  u.s.
DESCRIPTION:
URL:https://fahrschule-essig.de/event/thema-4-strassenverkehrssystem-u-s-30/
LOCATION:Bockgasse 21
END:VEVENT
BEGIN:VEVENT
DTSTART;TZID=Europe/Berlin:20250507T183000
DTEND;TZID=Europe/Berlin:20250507T200000
DTSTAMP:20260423T041345
CREATED:20250505T195351Z
LAST-MODIFIED:20250505T195351Z
UID:2626-1746642600-1746648000@fahrschule-essig.de
SUMMARY:Thema 5 : Vorfahrt
DESCRIPTION:
URL:https://fahrschule-essig.de/event/thema-5-vorfahrt-29/
LOCATION:Wielandstraße 3
END:VEVENT
BEGIN:VEVENT
DTSTART;TZID=Europe/Berlin:20250508T183000
DTEND;TZID=Europe/Berlin:20250508T200000
DTSTAMP:20260423T041345
CREATED:20250505T195431Z
LAST-MODIFIED:20250505T195431Z
UID:2628-1746729000-1746734400@fahrschule-essig.de
SUMMARY:Thema 6 : Verkehrsregelungen / Bahnübergänge
DESCRIPTION:
URL:https://fahrschule-essig.de/event/thema-6-verkehrsregelungen-bahnuebergaenge-30/
LOCATION:Bockgasse 21
END:VEVENT
BEGIN:VEVENT
DTSTART;TZID=Europe/Berlin:20250512T183000
DTEND;TZID=Europe/Berlin:20250512T200000
DTSTAMP:20260423T041345
CREATED:20250505T195506Z
LAST-MODIFIED:20250505T195506Z
UID:2630-1747074600-1747080000@fahrschule-essig.de
SUMMARY:Thema 7 : Geschwindigkeit\, Abstand\, Umwelt
DESCRIPTION:
URL:https://fahrschule-essig.de/event/thema-7-geschwindigkeit-abstand-umwelt-32/
LOCATION:Wielandstraße 3
END:VEVENT
BEGIN:VEVENT
DTSTART;TZID=Europe/Berlin:20250513T183000
DTEND;TZID=Europe/Berlin:20250513T200000
DTSTAMP:20260423T041345
CREATED:20250505T195552Z
LAST-MODIFIED:20250505T195552Z
UID:2632-1747161000-1747166400@fahrschule-essig.de
SUMMARY:Thema 8 : Andere Teilnehmer im Strassenverkehr
DESCRIPTION:
URL:https://fahrschule-essig.de/event/thema-8-andere-teilnehmer-im-strassenverkehr-30/
LOCATION:Bockgasse 21
END:VEVENT
BEGIN:VEVENT
DTSTART;TZID=Europe/Berlin:20250514T183000
DTEND;TZID=Europe/Berlin:20250514T200000
DTSTAMP:20260423T041345
CREATED:20250505T195712Z
LAST-MODIFIED:20250505T195712Z
UID:2634-1747247400-1747252800@fahrschule-essig.de
SUMMARY:Thema 9 : Verkehrsverhalten bei Fahrmanövern
DESCRIPTION:
URL:https://fahrschule-essig.de/event/thema-9-verkehrsverhalten-bei-fahrmanoevern-31/
LOCATION:Wielandstraße 3
END:VEVENT
BEGIN:VEVENT
DTSTART;TZID=Europe/Berlin:20250515T183000
DTEND;TZID=Europe/Berlin:20250515T200000
DTSTAMP:20260423T041345
CREATED:20250505T200044Z
LAST-MODIFIED:20250505T200044Z
UID:2636-1747333800-1747339200@fahrschule-essig.de
SUMMARY:Thema 10: Ruhender Verkehr
DESCRIPTION:
URL:https://fahrschule-essig.de/event/thema-10-ruhender-verkehr-31/
LOCATION:Bockgasse 21
END:VEVENT
BEGIN:VEVENT
DTSTART;TZID=Europe/Berlin:20250519T183000
DTEND;TZID=Europe/Berlin:20250519T200000
DTSTAMP:20260423T041345
CREATED:20250505T200120Z
LAST-MODIFIED:20250505T200120Z
UID:2638-1747679400-1747684800@fahrschule-essig.de
SUMMARY:Thema 11: Verhalten in besonderen Situationen
DESCRIPTION:
URL:https://fahrschule-essig.de/event/thema-11-verhalten-in-besonderen-situationen-31/
LOCATION:Wielandstraße 3
END:VEVENT
BEGIN:VEVENT
DTSTART;TZID=Europe/Berlin:20250520T183000
DTEND;TZID=Europe/Berlin:20250520T200000
DTSTAMP:20260423T041345
CREATED:20250505T200207Z
LAST-MODIFIED:20250505T200207Z
UID:2640-1747765800-1747771200@fahrschule-essig.de
SUMMARY:Thema 12: Lebenslanges Lernen
DESCRIPTION:
URL:https://fahrschule-essig.de/event/thema-12-lebenslanges-lernen-31/
LOCATION:Bockgasse 21
END:VEVENT
BEGIN:VEVENT
DTSTART;TZID=Europe/Berlin:20250521T183000
DTEND;TZID=Europe/Berlin:20250521T200000
DTSTAMP:20260423T041345
CREATED:20250505T200300Z
LAST-MODIFIED:20250505T200300Z
UID:2642-1747852200-1747857600@fahrschule-essig.de
SUMMARY:Technik 1: Techni. Bed.\, Pers.-Güterbeförderung
DESCRIPTION:
URL:https://fahrschule-essig.de/event/technik-1-techni-bed-pers-gueterbefoerderung-28/
LOCATION:Wielandstraße 3
END:VEVENT
BEGIN:VEVENT
DTSTART;TZID=Europe/Berlin:20250522T183000
DTEND;TZID=Europe/Berlin:20250522T200000
DTSTAMP:20260423T041345
CREATED:20250505T200346Z
LAST-MODIFIED:20250505T200346Z
UID:2644-1747938600-1747944000@fahrschule-essig.de
SUMMARY:Technik 2 : Fahren mit Solokfz. und Züge
DESCRIPTION:
URL:https://fahrschule-essig.de/event/technik-2-fahren-mit-solokfz-und-zuege-30/
LOCATION:Bockgasse 21
END:VEVENT
BEGIN:VEVENT
DTSTART;TZID=Europe/Berlin:20250526T183000
DTEND;TZID=Europe/Berlin:20250526T200000
DTSTAMP:20260423T041345
CREATED:20250505T200437Z
LAST-MODIFIED:20250505T200437Z
UID:2646-1748284200-1748289600@fahrschule-essig.de
SUMMARY:Thema 1 : Persönliche Voraussetzunen
DESCRIPTION:
URL:https://fahrschule-essig.de/event/thema-1-persoenliche-voraussetzunen-27/
LOCATION:Wielandstraße 3
END:VEVENT
BEGIN:VEVENT
DTSTART;TZID=Europe/Berlin:20250527T183000
DTEND;TZID=Europe/Berlin:20250527T200000
DTSTAMP:20260423T041345
CREATED:20250505T200514Z
LAST-MODIFIED:20250505T200514Z
UID:2648-1748370600-1748376000@fahrschule-essig.de
SUMMARY:Thema 2 : Rechtliche Rahmenbedingungen
DESCRIPTION:
URL:https://fahrschule-essig.de/event/thema-2-rechtliche-rahmenbedingungen-31/
LOCATION:Bockgasse 21
END:VEVENT
BEGIN:VEVENT
DTSTART;TZID=Europe/Berlin:20250528T183000
DTEND;TZID=Europe/Berlin:20250528T200000
DTSTAMP:20260423T041345
CREATED:20250505T200559Z
LAST-MODIFIED:20250505T200559Z
UID:2650-1748457000-1748462400@fahrschule-essig.de
SUMMARY:Thema 3 : Verkehrszeichen / -einrichtungen
DESCRIPTION:
URL:https://fahrschule-essig.de/event/thema-3-verkehrszeichen-einrichtungen-29/
LOCATION:Wielandstraße 3
END:VEVENT
BEGIN:VEVENT
DTSTART;TZID=Europe/Berlin:20250529T183000
DTEND;TZID=Europe/Berlin:20250529T200000
DTSTAMP:20260423T041345
CREATED:20250505T200646Z
LAST-MODIFIED:20250505T200646Z
UID:2652-1748543400-1748548800@fahrschule-essig.de
SUMMARY:Feiertag
DESCRIPTION:
URL:https://fahrschule-essig.de/event/feiertag-10/
LOCATION:Bockgasse 21
END:VEVENT
END:VCALENDAR