BEGIN:VCALENDAR
VERSION:2.0
PRODID:-//Fahrschule Essig und Heinzmann - ECPv6.15.20//NONSGML v1.0//EN
CALSCALE:GREGORIAN
METHOD:PUBLISH
X-ORIGINAL-URL:https://fahrschule-essig.de
X-WR-CALDESC:Veranstaltungen für Fahrschule Essig und Heinzmann
REFRESH-INTERVAL;VALUE=DURATION:PT1H
X-Robots-Tag:noindex
X-PUBLISHED-TTL:PT1H
BEGIN:VTIMEZONE
TZID:Europe/Berlin
BEGIN:DAYLIGHT
TZOFFSETFROM:+0100
TZOFFSETTO:+0200
TZNAME:CEST
DTSTART:20240331T010000
END:DAYLIGHT
BEGIN:STANDARD
TZOFFSETFROM:+0200
TZOFFSETTO:+0100
TZNAME:CET
DTSTART:20241027T010000
END:STANDARD
BEGIN:DAYLIGHT
TZOFFSETFROM:+0100
TZOFFSETTO:+0200
TZNAME:CEST
DTSTART:20250330T010000
END:DAYLIGHT
BEGIN:STANDARD
TZOFFSETFROM:+0200
TZOFFSETTO:+0100
TZNAME:CET
DTSTART:20251026T010000
END:STANDARD
BEGIN:DAYLIGHT
TZOFFSETFROM:+0100
TZOFFSETTO:+0200
TZNAME:CEST
DTSTART:20260329T010000
END:DAYLIGHT
BEGIN:STANDARD
TZOFFSETFROM:+0200
TZOFFSETTO:+0100
TZNAME:CET
DTSTART:20261025T010000
END:STANDARD
END:VTIMEZONE
BEGIN:VEVENT
DTSTART;TZID=Europe/Berlin:20250303T183000
DTEND;TZID=Europe/Berlin:20250303T200000
DTSTAMP:20260423T123102
CREATED:20250202T132034Z
LAST-MODIFIED:20250202T132034Z
UID:2544-1741026600-1741032000@fahrschule-essig.de
SUMMARY:Thema 11: Verhalten in besonderen Situationen
DESCRIPTION:
URL:https://fahrschule-essig.de/event/thema-11-verhalten-in-besonderen-situationen-28/
LOCATION:Wielandstraße 3
END:VEVENT
BEGIN:VEVENT
DTSTART;TZID=Europe/Berlin:20250304T183000
DTEND;TZID=Europe/Berlin:20250304T200000
DTSTAMP:20260423T123102
CREATED:20250202T132109Z
LAST-MODIFIED:20250202T132109Z
UID:2546-1741113000-1741118400@fahrschule-essig.de
SUMMARY:Thema 12: Lebenslanges Lernen
DESCRIPTION:
URL:https://fahrschule-essig.de/event/thema-12-lebenslanges-lernen-28/
LOCATION:Bockgasse 21
END:VEVENT
BEGIN:VEVENT
DTSTART;TZID=Europe/Berlin:20250305T183000
DTEND;TZID=Europe/Berlin:20250305T200000
DTSTAMP:20260423T123102
CREATED:20250202T132159Z
LAST-MODIFIED:20250202T132159Z
UID:2548-1741199400-1741204800@fahrschule-essig.de
SUMMARY:Technik 1: Techni. Bed.\, Pers.-Güterbeförderung
DESCRIPTION:
URL:https://fahrschule-essig.de/event/technik-1-techni-bed-pers-gueterbefoerderung-25/
LOCATION:Wielandstraße 3
END:VEVENT
BEGIN:VEVENT
DTSTART;TZID=Europe/Berlin:20250306T183000
DTEND;TZID=Europe/Berlin:20250306T200000
DTSTAMP:20260423T123102
CREATED:20250202T132249Z
LAST-MODIFIED:20250202T132249Z
UID:2550-1741285800-1741291200@fahrschule-essig.de
SUMMARY:Technik 2 : Fahren mit Solokfz. und Züge
DESCRIPTION:
URL:https://fahrschule-essig.de/event/technik-2-fahren-mit-solokfz-und-zuege-27/
LOCATION:Bockgasse 21
END:VEVENT
BEGIN:VEVENT
DTSTART;TZID=Europe/Berlin:20250310T183000
DTEND;TZID=Europe/Berlin:20250310T200000
DTSTAMP:20260423T123102
CREATED:20250202T132319Z
LAST-MODIFIED:20250202T132319Z
UID:2552-1741631400-1741636800@fahrschule-essig.de
SUMMARY:Thema 1 : Persönliche Voraussetzunen
DESCRIPTION:
URL:https://fahrschule-essig.de/event/thema-1-persoenliche-voraussetzunen-24/
LOCATION:Wielandstraße 3
END:VEVENT
BEGIN:VEVENT
DTSTART;TZID=Europe/Berlin:20250311T183000
DTEND;TZID=Europe/Berlin:20250311T200000
DTSTAMP:20260423T123102
CREATED:20250202T133716Z
LAST-MODIFIED:20250202T133716Z
UID:2576-1741717800-1741723200@fahrschule-essig.de
SUMMARY:Thema 2 : Rechtliche Rahmenbedingungen
DESCRIPTION:
URL:https://fahrschule-essig.de/event/thema-2-rechtliche-rahmenbedingungen-28/
LOCATION:Bockgasse 21
END:VEVENT
BEGIN:VEVENT
DTSTART;TZID=Europe/Berlin:20250312T183000
DTEND;TZID=Europe/Berlin:20250312T200000
DTSTAMP:20260423T123102
CREATED:20250202T132509Z
LAST-MODIFIED:20250202T132509Z
UID:2556-1741804200-1741809600@fahrschule-essig.de
SUMMARY:Thema 3 : Verkehrszeichen / -einrichtungen
DESCRIPTION:
URL:https://fahrschule-essig.de/event/thema-3-verkehrszeichen-einrichtungen-27/
LOCATION:Wielandstraße 3
END:VEVENT
BEGIN:VEVENT
DTSTART;TZID=Europe/Berlin:20250313T183000
DTEND;TZID=Europe/Berlin:20250313T200000
DTSTAMP:20260423T123102
CREATED:20250202T132558Z
LAST-MODIFIED:20250202T132558Z
UID:2558-1741890600-1741896000@fahrschule-essig.de
SUMMARY:Thema 4 : Strassenverkehrssystem  u.s.
DESCRIPTION:
URL:https://fahrschule-essig.de/event/thema-4-strassenverkehrssystem-u-s-28/
LOCATION:Bockgasse 21
END:VEVENT
BEGIN:VEVENT
DTSTART;TZID=Europe/Berlin:20250317T183000
DTEND;TZID=Europe/Berlin:20250317T200000
DTSTAMP:20260423T123102
CREATED:20250202T132641Z
LAST-MODIFIED:20250202T132641Z
UID:2560-1742236200-1742241600@fahrschule-essig.de
SUMMARY:Thema 5 : Vorfahrt
DESCRIPTION:
URL:https://fahrschule-essig.de/event/thema-5-vorfahrt-27/
LOCATION:Wielandstraße 3
END:VEVENT
BEGIN:VEVENT
DTSTART;TZID=Europe/Berlin:20250318T183000
DTEND;TZID=Europe/Berlin:20250318T200000
DTSTAMP:20260423T123102
CREATED:20250202T132722Z
LAST-MODIFIED:20250202T132722Z
UID:2562-1742322600-1742328000@fahrschule-essig.de
SUMMARY:Thema 6 : Verkehrsregelungen / Bahnübergänge
DESCRIPTION:
URL:https://fahrschule-essig.de/event/thema-6-verkehrsregelungen-bahnuebergaenge-28/
LOCATION:Bockgasse 21
END:VEVENT
BEGIN:VEVENT
DTSTART;TZID=Europe/Berlin:20250319T183000
DTEND;TZID=Europe/Berlin:20250319T200000
DTSTAMP:20260423T123102
CREATED:20250202T132810Z
LAST-MODIFIED:20250202T132810Z
UID:2564-1742409000-1742414400@fahrschule-essig.de
SUMMARY:Thema 7 : Geschwindigkeit\, Abstand\, Umwelt
DESCRIPTION:
URL:https://fahrschule-essig.de/event/thema-7-geschwindigkeit-abstand-umwelt-30/
LOCATION:Wielandstraße 3
END:VEVENT
BEGIN:VEVENT
DTSTART;TZID=Europe/Berlin:20250320T183000
DTEND;TZID=Europe/Berlin:20250320T200000
DTSTAMP:20260423T123102
CREATED:20250202T132847Z
LAST-MODIFIED:20250202T132847Z
UID:2566-1742495400-1742500800@fahrschule-essig.de
SUMMARY:Thema 8 : Andere Teilnehmer im Strassenverkehr
DESCRIPTION:
URL:https://fahrschule-essig.de/event/thema-8-andere-teilnehmer-im-strassenverkehr-28/
LOCATION:Bockgasse 21
END:VEVENT
BEGIN:VEVENT
DTSTART;TZID=Europe/Berlin:20250324T183000
DTEND;TZID=Europe/Berlin:20250324T200000
DTSTAMP:20260423T123102
CREATED:20250202T132927Z
LAST-MODIFIED:20250202T132927Z
UID:2568-1742841000-1742846400@fahrschule-essig.de
SUMMARY:Thema 9 : Verkehrsverhalten bei Fahrmanövern
DESCRIPTION:
URL:https://fahrschule-essig.de/event/thema-9-verkehrsverhalten-bei-fahrmanoevern-29/
LOCATION:Wielandstraße 3
END:VEVENT
BEGIN:VEVENT
DTSTART;TZID=Europe/Berlin:20250325T183000
DTEND;TZID=Europe/Berlin:20250325T200000
DTSTAMP:20260423T123102
CREATED:20250202T133006Z
LAST-MODIFIED:20250202T133006Z
UID:2570-1742927400-1742932800@fahrschule-essig.de
SUMMARY:Thema 10: Ruhender Verkehr
DESCRIPTION:
URL:https://fahrschule-essig.de/event/thema-10-ruhender-verkehr-29/
LOCATION:Bockgasse 21
END:VEVENT
BEGIN:VEVENT
DTSTART;TZID=Europe/Berlin:20250326T183000
DTEND;TZID=Europe/Berlin:20250326T200000
DTSTAMP:20260423T123102
CREATED:20250202T133042Z
LAST-MODIFIED:20250202T133042Z
UID:2572-1743013800-1743019200@fahrschule-essig.de
SUMMARY:Thema 11: Verhalten in besonderen Situationen
DESCRIPTION:
URL:https://fahrschule-essig.de/event/thema-11-verhalten-in-besonderen-situationen-29/
LOCATION:Wielandstraße 3
END:VEVENT
BEGIN:VEVENT
DTSTART;TZID=Europe/Berlin:20250327T183000
DTEND;TZID=Europe/Berlin:20250327T200000
DTSTAMP:20260423T123102
CREATED:20250202T133117Z
LAST-MODIFIED:20250202T133117Z
UID:2574-1743100200-1743105600@fahrschule-essig.de
SUMMARY:Thema 12: Lebenslanges Lernen
DESCRIPTION:
URL:https://fahrschule-essig.de/event/thema-12-lebenslanges-lernen-29/
LOCATION:Bockgasse 21
END:VEVENT
BEGIN:VEVENT
DTSTART;TZID=Europe/Berlin:20250331T183000
DTEND;TZID=Europe/Berlin:20250331T200000
DTSTAMP:20260423T123102
CREATED:20250330T171137Z
LAST-MODIFIED:20250330T171137Z
UID:2581-1743445800-1743451200@fahrschule-essig.de
SUMMARY:Technik 1: Techni. Bed.\, Pers.-Güterbeförderung
DESCRIPTION:
URL:https://fahrschule-essig.de/event/technik-1-techni-bed-pers-gueterbefoerderung-26/
LOCATION:Wielandstraße 3
END:VEVENT
END:VCALENDAR