BEGIN:VCALENDAR
VERSION:2.0
PRODID:-//Fahrschule Essig und Heinzmann - ECPv6.15.20//NONSGML v1.0//EN
CALSCALE:GREGORIAN
METHOD:PUBLISH
X-ORIGINAL-URL:https://fahrschule-essig.de
X-WR-CALDESC:Veranstaltungen für Fahrschule Essig und Heinzmann
REFRESH-INTERVAL;VALUE=DURATION:PT1H
X-Robots-Tag:noindex
X-PUBLISHED-TTL:PT1H
BEGIN:VTIMEZONE
TZID:Europe/Berlin
BEGIN:DAYLIGHT
TZOFFSETFROM:+0100
TZOFFSETTO:+0200
TZNAME:CEST
DTSTART:20230326T010000
END:DAYLIGHT
BEGIN:STANDARD
TZOFFSETFROM:+0200
TZOFFSETTO:+0100
TZNAME:CET
DTSTART:20231029T010000
END:STANDARD
BEGIN:DAYLIGHT
TZOFFSETFROM:+0100
TZOFFSETTO:+0200
TZNAME:CEST
DTSTART:20240331T010000
END:DAYLIGHT
BEGIN:STANDARD
TZOFFSETFROM:+0200
TZOFFSETTO:+0100
TZNAME:CET
DTSTART:20241027T010000
END:STANDARD
BEGIN:DAYLIGHT
TZOFFSETFROM:+0100
TZOFFSETTO:+0200
TZNAME:CEST
DTSTART:20250330T010000
END:DAYLIGHT
BEGIN:STANDARD
TZOFFSETFROM:+0200
TZOFFSETTO:+0100
TZNAME:CET
DTSTART:20251026T010000
END:STANDARD
BEGIN:DAYLIGHT
TZOFFSETFROM:+0100
TZOFFSETTO:+0200
TZNAME:CEST
DTSTART:20260329T010000
END:DAYLIGHT
BEGIN:STANDARD
TZOFFSETFROM:+0200
TZOFFSETTO:+0100
TZNAME:CET
DTSTART:20261025T010000
END:STANDARD
END:VTIMEZONE
BEGIN:VEVENT
DTSTART;TZID=Europe/Berlin:20241224T183000
DTEND;TZID=Europe/Berlin:20250106T200000
DTSTAMP:20260423T065028
CREATED:20241026T114118Z
LAST-MODIFIED:20241026T114223Z
UID:2415-1735065000-1736193600@fahrschule-essig.de
SUMMARY:Geschlossen
DESCRIPTION:
URL:https://fahrschule-essig.de/event/geschlossen-7/
LOCATION:Bockgasse 21
END:VEVENT
BEGIN:VEVENT
DTSTART;TZID=Europe/Berlin:20250107T183000
DTEND;TZID=Europe/Berlin:20250107T200000
DTSTAMP:20260423T065028
CREATED:20250106T133024Z
LAST-MODIFIED:20250106T133024Z
UID:2494-1736274600-1736280000@fahrschule-essig.de
SUMMARY:Thema 1 : Persönliche Voraussetzunen
DESCRIPTION:
URL:https://fahrschule-essig.de/event/thema-1-persoenliche-voraussetzunen-22/
LOCATION:Bockgasse 21
END:VEVENT
BEGIN:VEVENT
DTSTART;TZID=Europe/Berlin:20250109T183000
DTEND;TZID=Europe/Berlin:20250109T200000
DTSTAMP:20260423T065028
CREATED:20250106T133115Z
LAST-MODIFIED:20250106T133115Z
UID:2496-1736447400-1736452800@fahrschule-essig.de
SUMMARY:Thema 2 : Rechtliche Rahmenbedingungen
DESCRIPTION:
URL:https://fahrschule-essig.de/event/thema-2-rechtliche-rahmenbedingungen-26/
LOCATION:Bockgasse 21
END:VEVENT
BEGIN:VEVENT
DTSTART;TZID=Europe/Berlin:20250114T183000
DTEND;TZID=Europe/Berlin:20250114T200000
DTSTAMP:20260423T065028
CREATED:20250106T133158Z
LAST-MODIFIED:20250106T133158Z
UID:2498-1736879400-1736884800@fahrschule-essig.de
SUMMARY:Thema 3 : Verkehrszeichen / -einrichtungen
DESCRIPTION:
URL:https://fahrschule-essig.de/event/thema-3-verkehrszeichen-einrichtungen-25/
LOCATION:Bockgasse 21
END:VEVENT
BEGIN:VEVENT
DTSTART;TZID=Europe/Berlin:20250116T183000
DTEND;TZID=Europe/Berlin:20250116T200000
DTSTAMP:20260423T065028
CREATED:20250106T133246Z
LAST-MODIFIED:20250106T133246Z
UID:2500-1737052200-1737057600@fahrschule-essig.de
SUMMARY:Thema 4 : Strassenverkehrssystem  u.s.
DESCRIPTION:
URL:https://fahrschule-essig.de/event/thema-4-strassenverkehrssystem-u-s-26/
LOCATION:Bockgasse 21
END:VEVENT
BEGIN:VEVENT
DTSTART;TZID=Europe/Berlin:20250121T183000
DTEND;TZID=Europe/Berlin:20250121T200000
DTSTAMP:20260423T065028
CREATED:20250106T133355Z
LAST-MODIFIED:20250106T133355Z
UID:2502-1737484200-1737489600@fahrschule-essig.de
SUMMARY:Thema 5 : Vorfahrt
DESCRIPTION:
URL:https://fahrschule-essig.de/event/thema-5-vorfahrt-25/
LOCATION:Bockgasse 21
END:VEVENT
BEGIN:VEVENT
DTSTART;TZID=Europe/Berlin:20250123T183000
DTEND;TZID=Europe/Berlin:20250123T200000
DTSTAMP:20260423T065028
CREATED:20250106T133448Z
LAST-MODIFIED:20250106T133448Z
UID:2504-1737657000-1737662400@fahrschule-essig.de
SUMMARY:Thema 6 : Verkehrsregelungen / Bahnübergänge
DESCRIPTION:
URL:https://fahrschule-essig.de/event/thema-6-verkehrsregelungen-bahnuebergaenge-26/
LOCATION:Bockgasse 21
END:VEVENT
BEGIN:VEVENT
DTSTART;TZID=Europe/Berlin:20250128T080000
DTEND;TZID=Europe/Berlin:20250128T170000
DTSTAMP:20260423T065028
CREATED:20250106T133533Z
LAST-MODIFIED:20250106T133533Z
UID:2506-1738051200-1738083600@fahrschule-essig.de
SUMMARY:Thema 7 : Geschwindigkeit\, Abstand\, Umwelt
DESCRIPTION:
URL:https://fahrschule-essig.de/event/thema-7-geschwindigkeit-abstand-umwelt-28/
LOCATION:Bockgasse 21
END:VEVENT
BEGIN:VEVENT
DTSTART;TZID=Europe/Berlin:20250130T080000
DTEND;TZID=Europe/Berlin:20250130T170000
DTSTAMP:20260423T065028
CREATED:20250106T133654Z
LAST-MODIFIED:20250106T133654Z
UID:2508-1738224000-1738256400@fahrschule-essig.de
SUMMARY:Thema 8 : Andere Teilnehmer im Strassenverkehr
DESCRIPTION:
URL:https://fahrschule-essig.de/event/thema-8-andere-teilnehmer-im-strassenverkehr-26/
END:VEVENT
END:VCALENDAR