BEGIN:VCALENDAR
VERSION:2.0
PRODID:-//Fahrschule Essig und Heinzmann - ECPv6.15.20//NONSGML v1.0//EN
CALSCALE:GREGORIAN
METHOD:PUBLISH
X-WR-CALNAME:Fahrschule Essig und Heinzmann
X-ORIGINAL-URL:https://fahrschule-essig.de
X-WR-CALDESC:Veranstaltungen für Fahrschule Essig und Heinzmann
REFRESH-INTERVAL;VALUE=DURATION:PT1H
X-Robots-Tag:noindex
X-PUBLISHED-TTL:PT1H
BEGIN:VTIMEZONE
TZID:Europe/Berlin
BEGIN:DAYLIGHT
TZOFFSETFROM:+0100
TZOFFSETTO:+0200
TZNAME:CEST
DTSTART:20230326T010000
END:DAYLIGHT
BEGIN:STANDARD
TZOFFSETFROM:+0200
TZOFFSETTO:+0100
TZNAME:CET
DTSTART:20231029T010000
END:STANDARD
BEGIN:DAYLIGHT
TZOFFSETFROM:+0100
TZOFFSETTO:+0200
TZNAME:CEST
DTSTART:20240331T010000
END:DAYLIGHT
BEGIN:STANDARD
TZOFFSETFROM:+0200
TZOFFSETTO:+0100
TZNAME:CET
DTSTART:20241027T010000
END:STANDARD
BEGIN:DAYLIGHT
TZOFFSETFROM:+0100
TZOFFSETTO:+0200
TZNAME:CEST
DTSTART:20250330T010000
END:DAYLIGHT
BEGIN:STANDARD
TZOFFSETFROM:+0200
TZOFFSETTO:+0100
TZNAME:CET
DTSTART:20251026T010000
END:STANDARD
END:VTIMEZONE
BEGIN:VEVENT
DTSTART;TZID=Europe/Berlin:20241001T183000
DTEND;TZID=Europe/Berlin:20241001T200000
DTSTAMP:20260421T125843
CREATED:20240929T061756Z
LAST-MODIFIED:20240929T061756Z
UID:2318-1727807400-1727812800@fahrschule-essig.de
SUMMARY:Thema 10: Ruhender Verkehr
DESCRIPTION:
URL:https://fahrschule-essig.de/event/thema-10-ruhender-verkehr-23/
LOCATION:Bockgasse 21
END:VEVENT
BEGIN:VEVENT
DTSTART;TZID=Europe/Berlin:20241002T183000
DTEND;TZID=Europe/Berlin:20241002T200000
DTSTAMP:20260421T125843
CREATED:20240929T061846Z
LAST-MODIFIED:20240929T061846Z
UID:2320-1727893800-1727899200@fahrschule-essig.de
SUMMARY:Thema 11: Verhalten in besonderen Situationen
DESCRIPTION:
URL:https://fahrschule-essig.de/event/thema-11-verhalten-in-besonderen-situationen-23/
LOCATION:Wielandstraße 3
END:VEVENT
BEGIN:VEVENT
DTSTART;TZID=Europe/Berlin:20241003T183000
DTEND;TZID=Europe/Berlin:20241003T200000
DTSTAMP:20260421T125843
CREATED:20240929T061930Z
LAST-MODIFIED:20240929T061930Z
UID:2322-1727980200-1727985600@fahrschule-essig.de
SUMMARY:Feiertag Geschlossen
DESCRIPTION:
URL:https://fahrschule-essig.de/event/feiertag-geschlossen-3/
LOCATION:Bockgasse 21
END:VEVENT
BEGIN:VEVENT
DTSTART;TZID=Europe/Berlin:20241007T183000
DTEND;TZID=Europe/Berlin:20241007T200000
DTSTAMP:20260421T125843
CREATED:20240929T062007Z
LAST-MODIFIED:20240929T062007Z
UID:2324-1728325800-1728331200@fahrschule-essig.de
SUMMARY:Thema 12: Lebenslanges Lernen
DESCRIPTION:
URL:https://fahrschule-essig.de/event/thema-12-lebenslanges-lernen-23/
LOCATION:Wielandstraße 3
END:VEVENT
BEGIN:VEVENT
DTSTART;TZID=Europe/Berlin:20241008T183000
DTEND;TZID=Europe/Berlin:20241008T200000
DTSTAMP:20260421T125843
CREATED:20240929T062105Z
LAST-MODIFIED:20240929T062105Z
UID:2326-1728412200-1728417600@fahrschule-essig.de
SUMMARY:Technik 1: Techni. Bed.\, Pers.-Güterbeförderung
DESCRIPTION:
URL:https://fahrschule-essig.de/event/technik-1-techni-bed-pers-gueterbefoerderung-21/
LOCATION:Bockgasse 21
END:VEVENT
BEGIN:VEVENT
DTSTART;TZID=Europe/Berlin:20241009T183000
DTEND;TZID=Europe/Berlin:20241009T200000
DTSTAMP:20260421T125843
CREATED:20240929T062149Z
LAST-MODIFIED:20240929T062149Z
UID:2328-1728498600-1728504000@fahrschule-essig.de
SUMMARY:Technik 2 : Fahren mit Solokfz. und Züge
DESCRIPTION:
URL:https://fahrschule-essig.de/event/technik-2-fahren-mit-solokfz-und-zuege-23/
LOCATION:Wielandstraße 3
END:VEVENT
BEGIN:VEVENT
DTSTART;TZID=Europe/Berlin:20241010T183000
DTEND;TZID=Europe/Berlin:20241010T200000
DTSTAMP:20260421T125843
CREATED:20240929T062244Z
LAST-MODIFIED:20240929T062244Z
UID:2330-1728585000-1728590400@fahrschule-essig.de
SUMMARY:Thema 1 : Persönliche Voraussetzunen
DESCRIPTION:
URL:https://fahrschule-essig.de/event/thema-1-persoenliche-voraussetzunen-19/
LOCATION:Bockgasse 21
END:VEVENT
BEGIN:VEVENT
DTSTART;TZID=Europe/Berlin:20241014T183000
DTEND;TZID=Europe/Berlin:20241014T200000
DTSTAMP:20260421T125843
CREATED:20240929T062327Z
LAST-MODIFIED:20240929T062327Z
UID:2332-1728930600-1728936000@fahrschule-essig.de
SUMMARY:Thema 2 : Rechtliche Rahmenbedingungen
DESCRIPTION:
URL:https://fahrschule-essig.de/event/thema-2-rechtliche-rahmenbedingungen-23/
LOCATION:Wielandstraße 3
END:VEVENT
BEGIN:VEVENT
DTSTART;TZID=Europe/Berlin:20241015T183000
DTEND;TZID=Europe/Berlin:20241015T200000
DTSTAMP:20260421T125843
CREATED:20240929T062414Z
LAST-MODIFIED:20240929T062414Z
UID:2334-1729017000-1729022400@fahrschule-essig.de
SUMMARY:Thema 3 : Verkehrszeichen / -einrichtungen
DESCRIPTION:
URL:https://fahrschule-essig.de/event/thema-3-verkehrszeichen-einrichtungen-22/
LOCATION:Bockgasse 21
END:VEVENT
BEGIN:VEVENT
DTSTART;TZID=Europe/Berlin:20241016T183000
DTEND;TZID=Europe/Berlin:20241016T200000
DTSTAMP:20260421T125843
CREATED:20240929T062453Z
LAST-MODIFIED:20240929T062453Z
UID:2336-1729103400-1729108800@fahrschule-essig.de
SUMMARY:Thema 4 : Strassenverkehrssystem  u.s.
DESCRIPTION:
URL:https://fahrschule-essig.de/event/thema-4-strassenverkehrssystem-u-s-23/
LOCATION:Wielandstraße 3
END:VEVENT
BEGIN:VEVENT
DTSTART;TZID=Europe/Berlin:20241017T183000
DTEND;TZID=Europe/Berlin:20241017T200000
DTSTAMP:20260421T125843
CREATED:20240929T062538Z
LAST-MODIFIED:20240929T062538Z
UID:2338-1729189800-1729195200@fahrschule-essig.de
SUMMARY:Thema 5 : Vorfahrt
DESCRIPTION:
URL:https://fahrschule-essig.de/event/thema-5-vorfahrt-22/
LOCATION:Bockgasse 21
END:VEVENT
BEGIN:VEVENT
DTSTART;TZID=Europe/Berlin:20241021T183000
DTEND;TZID=Europe/Berlin:20241021T200000
DTSTAMP:20260421T125843
CREATED:20240929T062620Z
LAST-MODIFIED:20240929T062620Z
UID:2340-1729535400-1729540800@fahrschule-essig.de
SUMMARY:Thema 6 : Verkehrsregelungen / Bahnübergänge
DESCRIPTION:
URL:https://fahrschule-essig.de/event/thema-6-verkehrsregelungen-bahnuebergaenge-23/
LOCATION:Wielandstraße 3
END:VEVENT
BEGIN:VEVENT
DTSTART;TZID=Europe/Berlin:20241022T183000
DTEND;TZID=Europe/Berlin:20241022T200000
DTSTAMP:20260421T125843
CREATED:20240929T062802Z
LAST-MODIFIED:20240929T062802Z
UID:2342-1729621800-1729627200@fahrschule-essig.de
SUMMARY:Thema 7 : Geschwindigkeit\, Abstand\, Umwelt
DESCRIPTION:
URL:https://fahrschule-essig.de/event/thema-7-geschwindigkeit-abstand-umwelt-25/
LOCATION:Bockgasse 21
END:VEVENT
BEGIN:VEVENT
DTSTART;TZID=Europe/Berlin:20241023T183000
DTEND;TZID=Europe/Berlin:20241023T200000
DTSTAMP:20260421T125843
CREATED:20240929T062848Z
LAST-MODIFIED:20240929T062848Z
UID:2344-1729708200-1729713600@fahrschule-essig.de
SUMMARY:Thema 8 : Andere Teilnehmer im Strassenverkehr
DESCRIPTION:
URL:https://fahrschule-essig.de/event/thema-8-andere-teilnehmer-im-strassenverkehr-23/
LOCATION:Wielandstraße 3
END:VEVENT
BEGIN:VEVENT
DTSTART;TZID=Europe/Berlin:20241024T183000
DTEND;TZID=Europe/Berlin:20241024T200000
DTSTAMP:20260421T125843
CREATED:20240929T062935Z
LAST-MODIFIED:20240929T062935Z
UID:2346-1729794600-1729800000@fahrschule-essig.de
SUMMARY:Thema 9 : Verkehrsverhalten bei Fahrmanövern
DESCRIPTION:
URL:https://fahrschule-essig.de/event/thema-9-verkehrsverhalten-bei-fahrmanoevern-24/
LOCATION:Bockgasse 21
END:VEVENT
BEGIN:VEVENT
DTSTART;TZID=Europe/Berlin:20241028T183000
DTEND;TZID=Europe/Berlin:20241028T200000
DTSTAMP:20260421T125843
CREATED:20240929T063032Z
LAST-MODIFIED:20240929T063032Z
UID:2348-1730140200-1730145600@fahrschule-essig.de
SUMMARY:Thema 10: Ruhender Verkehr
DESCRIPTION:
URL:https://fahrschule-essig.de/event/thema-10-ruhender-verkehr-24/
LOCATION:Wielandstraße 3
END:VEVENT
BEGIN:VEVENT
DTSTART;TZID=Europe/Berlin:20241029T183000
DTEND;TZID=Europe/Berlin:20241029T200000
DTSTAMP:20260421T125843
CREATED:20240929T063116Z
LAST-MODIFIED:20240929T063116Z
UID:2350-1730226600-1730232000@fahrschule-essig.de
SUMMARY:Thema 11: Verhalten in besonderen Situationen
DESCRIPTION:
URL:https://fahrschule-essig.de/event/thema-11-verhalten-in-besonderen-situationen-24/
LOCATION:Bockgasse 21
END:VEVENT
BEGIN:VEVENT
DTSTART;TZID=Europe/Berlin:20241030T183000
DTEND;TZID=Europe/Berlin:20241030T200000
DTSTAMP:20260421T125843
CREATED:20240929T063200Z
LAST-MODIFIED:20240929T063200Z
UID:2352-1730313000-1730318400@fahrschule-essig.de
SUMMARY:Thema 12: Lebenslanges Lernen
DESCRIPTION:
URL:https://fahrschule-essig.de/event/thema-12-lebenslanges-lernen-24/
LOCATION:Wielandstraße 3
END:VEVENT
BEGIN:VEVENT
DTSTART;TZID=Europe/Berlin:20241031T183000
DTEND;TZID=Europe/Berlin:20241031T200000
DTSTAMP:20260421T125843
CREATED:20240929T063249Z
LAST-MODIFIED:20240929T063249Z
UID:2354-1730399400-1730404800@fahrschule-essig.de
SUMMARY:Technik 1: Techni. Bed.\, Pers.-Güterbeförderung
DESCRIPTION:
URL:https://fahrschule-essig.de/event/technik-1-techni-bed-pers-gueterbefoerderung-22/
LOCATION:Bockgasse 21
END:VEVENT
END:VCALENDAR