BEGIN:VCALENDAR
VERSION:2.0
PRODID:-//Fahrschule Essig und Heinzmann - ECPv6.15.20//NONSGML v1.0//EN
CALSCALE:GREGORIAN
METHOD:PUBLISH
X-WR-CALNAME:Fahrschule Essig und Heinzmann
X-ORIGINAL-URL:https://fahrschule-essig.de
X-WR-CALDESC:Veranstaltungen für Fahrschule Essig und Heinzmann
REFRESH-INTERVAL;VALUE=DURATION:PT1H
X-Robots-Tag:noindex
X-PUBLISHED-TTL:PT1H
BEGIN:VTIMEZONE
TZID:Europe/Berlin
BEGIN:DAYLIGHT
TZOFFSETFROM:+0100
TZOFFSETTO:+0200
TZNAME:CEST
DTSTART:20230326T010000
END:DAYLIGHT
BEGIN:STANDARD
TZOFFSETFROM:+0200
TZOFFSETTO:+0100
TZNAME:CET
DTSTART:20231029T010000
END:STANDARD
BEGIN:DAYLIGHT
TZOFFSETFROM:+0100
TZOFFSETTO:+0200
TZNAME:CEST
DTSTART:20240331T010000
END:DAYLIGHT
BEGIN:STANDARD
TZOFFSETFROM:+0200
TZOFFSETTO:+0100
TZNAME:CET
DTSTART:20241027T010000
END:STANDARD
BEGIN:DAYLIGHT
TZOFFSETFROM:+0100
TZOFFSETTO:+0200
TZNAME:CEST
DTSTART:20250330T010000
END:DAYLIGHT
BEGIN:STANDARD
TZOFFSETFROM:+0200
TZOFFSETTO:+0100
TZNAME:CET
DTSTART:20251026T010000
END:STANDARD
END:VTIMEZONE
BEGIN:VEVENT
DTSTART;TZID=Europe/Berlin:20240902T183000
DTEND;TZID=Europe/Berlin:20240902T200000
DTSTAMP:20260421T114317
CREATED:20240902T154845Z
LAST-MODIFIED:20240902T154845Z
UID:2186-1725301800-1725307200@fahrschule-essig.de
SUMMARY:Thema 8 : Andere Teilnehmer im Strassenverkehr
DESCRIPTION:
URL:https://fahrschule-essig.de/event/thema-8-andere-teilnehmer-im-strassenverkehr-21/
LOCATION:Wielandstraße 3
END:VEVENT
BEGIN:VEVENT
DTSTART;TZID=Europe/Berlin:20240903T183000
DTEND;TZID=Europe/Berlin:20240903T200000
DTSTAMP:20260421T114317
CREATED:20240902T154925Z
LAST-MODIFIED:20240902T154925Z
UID:2188-1725388200-1725393600@fahrschule-essig.de
SUMMARY:Thema 9 : Verkehrsverhalten bei Fahrmanövern
DESCRIPTION:
URL:https://fahrschule-essig.de/event/thema-9-verkehrsverhalten-bei-fahrmanoevern-22/
LOCATION:Bockgasse 21
END:VEVENT
BEGIN:VEVENT
DTSTART;TZID=Europe/Berlin:20240904T183000
DTEND;TZID=Europe/Berlin:20240904T200000
DTSTAMP:20260421T114317
CREATED:20240902T155006Z
LAST-MODIFIED:20240902T155006Z
UID:2190-1725474600-1725480000@fahrschule-essig.de
SUMMARY:Thema 10: Ruhender Verkehr
DESCRIPTION:
URL:https://fahrschule-essig.de/event/thema-10-ruhender-verkehr-22/
LOCATION:Wielandstraße 3
END:VEVENT
BEGIN:VEVENT
DTSTART;TZID=Europe/Berlin:20240905T183000
DTEND;TZID=Europe/Berlin:20240905T200000
DTSTAMP:20260421T114317
CREATED:20240902T155059Z
LAST-MODIFIED:20240902T155059Z
UID:2192-1725561000-1725566400@fahrschule-essig.de
SUMMARY:Thema 11: Verhalten in besonderen Situationen
DESCRIPTION:
URL:https://fahrschule-essig.de/event/thema-11-verhalten-in-besonderen-situationen-22/
LOCATION:Bockgasse 21
END:VEVENT
BEGIN:VEVENT
DTSTART;TZID=Europe/Berlin:20240909T183000
DTEND;TZID=Europe/Berlin:20240909T200000
DTSTAMP:20260421T114317
CREATED:20240902T155249Z
LAST-MODIFIED:20240902T155249Z
UID:2196-1725906600-1725912000@fahrschule-essig.de
SUMMARY:GESCHLOSSEN KEIN UNTERRICHT
DESCRIPTION:
URL:https://fahrschule-essig.de/event/geschlossen-kein-unterricht/
LOCATION:Wielandstraße 3
END:VEVENT
BEGIN:VEVENT
DTSTART;TZID=Europe/Berlin:20240910T183000
DTEND;TZID=Europe/Berlin:20240910T200000
DTSTAMP:20260421T114317
CREATED:20240902T155156Z
LAST-MODIFIED:20240902T155156Z
UID:2194-1725993000-1725998400@fahrschule-essig.de
SUMMARY:Thema 12: Lebenslanges Lernen
DESCRIPTION:
URL:https://fahrschule-essig.de/event/thema-12-lebenslanges-lernen-22/
LOCATION:Bockgasse 21
END:VEVENT
BEGIN:VEVENT
DTSTART;TZID=Europe/Berlin:20240911T183000
DTEND;TZID=Europe/Berlin:20240911T200000
DTSTAMP:20260421T114317
CREATED:20240902T155337Z
LAST-MODIFIED:20240902T155337Z
UID:2198-1726079400-1726084800@fahrschule-essig.de
SUMMARY:Technik 1: Techni. Bed.\, Pers.-Güterbeförderung
DESCRIPTION:
URL:https://fahrschule-essig.de/event/technik-1-techni-bed-pers-gueterbefoerderung-20/
LOCATION:Wielandstraße 3
END:VEVENT
BEGIN:VEVENT
DTSTART;TZID=Europe/Berlin:20240912T183000
DTEND;TZID=Europe/Berlin:20240912T200000
DTSTAMP:20260421T114317
CREATED:20240902T155427Z
LAST-MODIFIED:20240902T155427Z
UID:2201-1726165800-1726171200@fahrschule-essig.de
SUMMARY:Technik 2 : Fahren mit Solokfz. und Züge
DESCRIPTION:
URL:https://fahrschule-essig.de/event/technik-2-fahren-mit-solokfz-und-zuege-22/
LOCATION:Bockgasse 21
END:VEVENT
BEGIN:VEVENT
DTSTART;TZID=Europe/Berlin:20240916T183000
DTEND;TZID=Europe/Berlin:20240916T200000
DTSTAMP:20260421T114317
CREATED:20240902T155503Z
LAST-MODIFIED:20240902T155503Z
UID:2203-1726511400-1726516800@fahrschule-essig.de
SUMMARY:Thema 1 : Persönliche Voraussetzunen
DESCRIPTION:
URL:https://fahrschule-essig.de/event/thema-1-persoenliche-voraussetzunen-18/
LOCATION:Wielandstraße 3
END:VEVENT
BEGIN:VEVENT
DTSTART;TZID=Europe/Berlin:20240917T183000
DTEND;TZID=Europe/Berlin:20240917T200000
DTSTAMP:20260421T114317
CREATED:20240902T155543Z
LAST-MODIFIED:20240902T155543Z
UID:2205-1726597800-1726603200@fahrschule-essig.de
SUMMARY:Thema 2 : Rechtliche Rahmenbedingungen
DESCRIPTION:
URL:https://fahrschule-essig.de/event/thema-2-rechtliche-rahmenbedingungen-22/
LOCATION:Bockgasse 21
END:VEVENT
BEGIN:VEVENT
DTSTART;TZID=Europe/Berlin:20240918T183000
DTEND;TZID=Europe/Berlin:20240918T200000
DTSTAMP:20260421T114317
CREATED:20240902T155630Z
LAST-MODIFIED:20240902T155630Z
UID:2207-1726684200-1726689600@fahrschule-essig.de
SUMMARY:Thema 3 : Verkehrszeichen / -einrichtungen
DESCRIPTION:
URL:https://fahrschule-essig.de/event/thema-3-verkehrszeichen-einrichtungen-21/
LOCATION:Wielandstraße 3
END:VEVENT
BEGIN:VEVENT
DTSTART;TZID=Europe/Berlin:20240919T183000
DTEND;TZID=Europe/Berlin:20240919T200000
DTSTAMP:20260421T114317
CREATED:20240902T155747Z
LAST-MODIFIED:20240902T155747Z
UID:2209-1726770600-1726776000@fahrschule-essig.de
SUMMARY:Thema 4 : Strassenverkehrssystem  u.s.
DESCRIPTION:
URL:https://fahrschule-essig.de/event/thema-4-strassenverkehrssystem-u-s-22/
LOCATION:Bockgasse 21
END:VEVENT
BEGIN:VEVENT
DTSTART;TZID=Europe/Berlin:20240923T183000
DTEND;TZID=Europe/Berlin:20240923T200000
DTSTAMP:20260421T114317
CREATED:20240902T155830Z
LAST-MODIFIED:20240902T155830Z
UID:2212-1727116200-1727121600@fahrschule-essig.de
SUMMARY:Thema 5 : Vorfahrt
DESCRIPTION:
URL:https://fahrschule-essig.de/event/thema-5-vorfahrt-21/
LOCATION:Wielandstraße 3
END:VEVENT
BEGIN:VEVENT
DTSTART;TZID=Europe/Berlin:20240924T183000
DTEND;TZID=Europe/Berlin:20240924T200000
DTSTAMP:20260421T114317
CREATED:20240902T155915Z
LAST-MODIFIED:20240902T155915Z
UID:2215-1727202600-1727208000@fahrschule-essig.de
SUMMARY:Thema 6 : Verkehrsregelungen / Bahnübergänge
DESCRIPTION:
URL:https://fahrschule-essig.de/event/thema-6-verkehrsregelungen-bahnuebergaenge-22/
LOCATION:Bockgasse 21
END:VEVENT
BEGIN:VEVENT
DTSTART;TZID=Europe/Berlin:20240925T183000
DTEND;TZID=Europe/Berlin:20240925T200000
DTSTAMP:20260421T114317
CREATED:20240902T155955Z
LAST-MODIFIED:20240902T155955Z
UID:2218-1727289000-1727294400@fahrschule-essig.de
SUMMARY:Thema 7 : Geschwindigkeit\, Abstand\, Umwelt
DESCRIPTION:
URL:https://fahrschule-essig.de/event/thema-7-geschwindigkeit-abstand-umwelt-24/
LOCATION:Wielandstraße 3
END:VEVENT
BEGIN:VEVENT
DTSTART;TZID=Europe/Berlin:20240926T183000
DTEND;TZID=Europe/Berlin:20240926T200000
DTSTAMP:20260421T114317
CREATED:20240902T160057Z
LAST-MODIFIED:20240902T160057Z
UID:2220-1727375400-1727380800@fahrschule-essig.de
SUMMARY:Thema 8 : Andere Teilnehmer im Strassenverkehr
DESCRIPTION:
URL:https://fahrschule-essig.de/event/thema-8-andere-teilnehmer-im-strassenverkehr-22/
LOCATION:Bockgasse 21
END:VEVENT
BEGIN:VEVENT
DTSTART;TZID=Europe/Berlin:20240930T183000
DTEND;TZID=Europe/Berlin:20240930T200000
DTSTAMP:20260421T114317
CREATED:20240902T160149Z
LAST-MODIFIED:20240902T160149Z
UID:2222-1727721000-1727726400@fahrschule-essig.de
SUMMARY:Thema 9 : Verkehrsverhalten bei Fahrmanövern
DESCRIPTION:
URL:https://fahrschule-essig.de/event/thema-9-verkehrsverhalten-bei-fahrmanoevern-23/
LOCATION:Wielandstraße 3
END:VEVENT
END:VCALENDAR