BEGIN:VCALENDAR
VERSION:2.0
PRODID:-//Fahrschule Essig und Heinzmann - ECPv6.15.20//NONSGML v1.0//EN
CALSCALE:GREGORIAN
METHOD:PUBLISH
X-ORIGINAL-URL:https://fahrschule-essig.de
X-WR-CALDESC:Veranstaltungen für Fahrschule Essig und Heinzmann
REFRESH-INTERVAL;VALUE=DURATION:PT1H
X-Robots-Tag:noindex
X-PUBLISHED-TTL:PT1H
BEGIN:VTIMEZONE
TZID:Europe/Berlin
BEGIN:DAYLIGHT
TZOFFSETFROM:+0100
TZOFFSETTO:+0200
TZNAME:CEST
DTSTART:20230326T010000
END:DAYLIGHT
BEGIN:STANDARD
TZOFFSETFROM:+0200
TZOFFSETTO:+0100
TZNAME:CET
DTSTART:20231029T010000
END:STANDARD
BEGIN:DAYLIGHT
TZOFFSETFROM:+0100
TZOFFSETTO:+0200
TZNAME:CEST
DTSTART:20240331T010000
END:DAYLIGHT
BEGIN:STANDARD
TZOFFSETFROM:+0200
TZOFFSETTO:+0100
TZNAME:CET
DTSTART:20241027T010000
END:STANDARD
BEGIN:DAYLIGHT
TZOFFSETFROM:+0100
TZOFFSETTO:+0200
TZNAME:CEST
DTSTART:20250330T010000
END:DAYLIGHT
BEGIN:STANDARD
TZOFFSETFROM:+0200
TZOFFSETTO:+0100
TZNAME:CET
DTSTART:20251026T010000
END:STANDARD
END:VTIMEZONE
BEGIN:VEVENT
DTSTART;TZID=Europe/Berlin:20240801T183000
DTEND;TZID=Europe/Berlin:20240801T200000
DTSTAMP:20260421T114652
CREATED:20240630T161435Z
LAST-MODIFIED:20240630T161435Z
UID:2144-1722537000-1722542400@fahrschule-essig.de
SUMMARY:Thema 5 : Vorfahrt
DESCRIPTION:
URL:https://fahrschule-essig.de/event/thema-5-vorfahrt-19/
LOCATION:Bockgasse 21
END:VEVENT
BEGIN:VEVENT
DTSTART;TZID=Europe/Berlin:20240805T183000
DTEND;TZID=Europe/Berlin:20240805T200000
DTSTAMP:20260421T114652
CREATED:20240801T053304Z
LAST-MODIFIED:20240801T053304Z
UID:2150-1722882600-1722888000@fahrschule-essig.de
SUMMARY:Thema 6 : Verkehrsregelungen / Bahnübergänge
DESCRIPTION:
URL:https://fahrschule-essig.de/event/thema-6-verkehrsregelungen-bahnuebergaenge-20/
LOCATION:Wielandstraße 3
END:VEVENT
BEGIN:VEVENT
DTSTART;TZID=Europe/Berlin:20240806T183000
DTEND;TZID=Europe/Berlin:20240806T200000
DTSTAMP:20260421T114652
CREATED:20240801T053334Z
LAST-MODIFIED:20240801T053334Z
UID:2152-1722969000-1722974400@fahrschule-essig.de
SUMMARY:Thema 7 : Geschwindigkeit\, Abstand\, Umwelt
DESCRIPTION:
URL:https://fahrschule-essig.de/event/thema-7-geschwindigkeit-abstand-umwelt-22/
LOCATION:Bockgasse 21
END:VEVENT
BEGIN:VEVENT
DTSTART;TZID=Europe/Berlin:20240807T183000
DTEND;TZID=Europe/Berlin:20240807T200000
DTSTAMP:20260421T114652
CREATED:20240801T053406Z
LAST-MODIFIED:20240801T053406Z
UID:2154-1723055400-1723060800@fahrschule-essig.de
SUMMARY:Thema 8 : Andere Teilnehmer im Strassenverkehr
DESCRIPTION:
URL:https://fahrschule-essig.de/event/thema-8-andere-teilnehmer-im-strassenverkehr-20/
LOCATION:Wielandstraße 3
END:VEVENT
BEGIN:VEVENT
DTSTART;TZID=Europe/Berlin:20240808T183000
DTEND;TZID=Europe/Berlin:20240808T200000
DTSTAMP:20260421T114652
CREATED:20240801T053442Z
LAST-MODIFIED:20240801T053442Z
UID:2156-1723141800-1723147200@fahrschule-essig.de
SUMMARY:Thema 9 : Verkehrsverhalten bei Fahrmanövern
DESCRIPTION:
URL:https://fahrschule-essig.de/event/thema-9-verkehrsverhalten-bei-fahrmanoevern-21/
LOCATION:Bockgasse 21
END:VEVENT
BEGIN:VEVENT
DTSTART;TZID=Europe/Berlin:20240812T183000
DTEND;TZID=Europe/Berlin:20240812T200000
DTSTAMP:20260421T114652
CREATED:20240801T053513Z
LAST-MODIFIED:20240801T053513Z
UID:2158-1723487400-1723492800@fahrschule-essig.de
SUMMARY:Thema 10: Ruhender Verkehr
DESCRIPTION:
URL:https://fahrschule-essig.de/event/thema-10-ruhender-verkehr-21/
LOCATION:Wielandstraße 3
END:VEVENT
BEGIN:VEVENT
DTSTART;TZID=Europe/Berlin:20240813T183000
DTEND;TZID=Europe/Berlin:20240813T200000
DTSTAMP:20260421T114652
CREATED:20240801T053548Z
LAST-MODIFIED:20240801T053548Z
UID:2160-1723573800-1723579200@fahrschule-essig.de
SUMMARY:Thema 11: Verhalten in besonderen Situationen
DESCRIPTION:
URL:https://fahrschule-essig.de/event/thema-11-verhalten-in-besonderen-situationen-21/
LOCATION:Bockgasse 21
END:VEVENT
BEGIN:VEVENT
DTSTART;TZID=Europe/Berlin:20240814T183000
DTEND;TZID=Europe/Berlin:20240814T200000
DTSTAMP:20260421T114652
CREATED:20240801T053625Z
LAST-MODIFIED:20240801T053625Z
UID:2162-1723660200-1723665600@fahrschule-essig.de
SUMMARY:Thema 12: Lebenslanges Lernen
DESCRIPTION:
URL:https://fahrschule-essig.de/event/thema-12-lebenslanges-lernen-21/
LOCATION:Wielandstraße 3
END:VEVENT
BEGIN:VEVENT
DTSTART;TZID=Europe/Berlin:20240815T183000
DTEND;TZID=Europe/Berlin:20240815T200000
DTSTAMP:20260421T114652
CREATED:20240801T053653Z
LAST-MODIFIED:20240801T053653Z
UID:2164-1723746600-1723752000@fahrschule-essig.de
SUMMARY:Technik 1: Techni. Bed.\, Pers.-Güterbeförderung
DESCRIPTION:
URL:https://fahrschule-essig.de/event/technik-1-techni-bed-pers-gueterbefoerderung-19/
LOCATION:Bockgasse 21
END:VEVENT
BEGIN:VEVENT
DTSTART;TZID=Europe/Berlin:20240819T183000
DTEND;TZID=Europe/Berlin:20240819T200000
DTSTAMP:20260421T114652
CREATED:20240801T053732Z
LAST-MODIFIED:20240801T053732Z
UID:2166-1724092200-1724097600@fahrschule-essig.de
SUMMARY:Technik 2 : Fahren mit Solokfz. und Züge
DESCRIPTION:
URL:https://fahrschule-essig.de/event/technik-2-fahren-mit-solokfz-und-zuege-21/
LOCATION:Wielandstraße 3
END:VEVENT
BEGIN:VEVENT
DTSTART;TZID=Europe/Berlin:20240820T183000
DTEND;TZID=Europe/Berlin:20240820T200000
DTSTAMP:20260421T114652
CREATED:20240801T053758Z
LAST-MODIFIED:20240801T053758Z
UID:2168-1724178600-1724184000@fahrschule-essig.de
SUMMARY:Thema 1 : Persönliche Voraussetzunen
DESCRIPTION:
URL:https://fahrschule-essig.de/event/thema-1-persoenliche-voraussetzunen-17/
LOCATION:Bockgasse 21
END:VEVENT
BEGIN:VEVENT
DTSTART;TZID=Europe/Berlin:20240821T183000
DTEND;TZID=Europe/Berlin:20240821T200000
DTSTAMP:20260421T114652
CREATED:20240801T053828Z
LAST-MODIFIED:20240801T053828Z
UID:2170-1724265000-1724270400@fahrschule-essig.de
SUMMARY:Thema 2 : Rechtliche Rahmenbedingungen
DESCRIPTION:
URL:https://fahrschule-essig.de/event/thema-2-rechtliche-rahmenbedingungen-21/
LOCATION:Wielandstraße 3
END:VEVENT
BEGIN:VEVENT
DTSTART;TZID=Europe/Berlin:20240822T183000
DTEND;TZID=Europe/Berlin:20240822T200000
DTSTAMP:20260421T114652
CREATED:20240801T053858Z
LAST-MODIFIED:20240801T053858Z
UID:2172-1724351400-1724356800@fahrschule-essig.de
SUMMARY:Thema 3 : Verkehrszeichen / -einrichtungen
DESCRIPTION:
URL:https://fahrschule-essig.de/event/thema-3-verkehrszeichen-einrichtungen-20/
LOCATION:Bockgasse 21
END:VEVENT
BEGIN:VEVENT
DTSTART;TZID=Europe/Berlin:20240826T183000
DTEND;TZID=Europe/Berlin:20240826T200000
DTSTAMP:20260421T114652
CREATED:20240801T053927Z
LAST-MODIFIED:20240801T053927Z
UID:2174-1724697000-1724702400@fahrschule-essig.de
SUMMARY:Thema 4 : Strassenverkehrssystem  u.s.
DESCRIPTION:
URL:https://fahrschule-essig.de/event/thema-4-strassenverkehrssystem-u-s-21/
LOCATION:Wielandstraße 3
END:VEVENT
BEGIN:VEVENT
DTSTART;TZID=Europe/Berlin:20240827T183000
DTEND;TZID=Europe/Berlin:20240827T200000
DTSTAMP:20260421T114652
CREATED:20240801T053952Z
LAST-MODIFIED:20240801T053952Z
UID:2176-1724783400-1724788800@fahrschule-essig.de
SUMMARY:Thema 5 : Vorfahrt
DESCRIPTION:
URL:https://fahrschule-essig.de/event/thema-5-vorfahrt-20/
LOCATION:Bockgasse 21
END:VEVENT
BEGIN:VEVENT
DTSTART;TZID=Europe/Berlin:20240828T183000
DTEND;TZID=Europe/Berlin:20240828T200000
DTSTAMP:20260421T114652
CREATED:20240801T054019Z
LAST-MODIFIED:20240801T054019Z
UID:2178-1724869800-1724875200@fahrschule-essig.de
SUMMARY:Thema 6 : Verkehrsregelungen / Bahnübergänge
DESCRIPTION:
URL:https://fahrschule-essig.de/event/thema-6-verkehrsregelungen-bahnuebergaenge-21/
LOCATION:Wielandstraße 3
END:VEVENT
BEGIN:VEVENT
DTSTART;TZID=Europe/Berlin:20240829T183000
DTEND;TZID=Europe/Berlin:20240829T200000
DTSTAMP:20260421T114652
CREATED:20240801T054043Z
LAST-MODIFIED:20240801T054043Z
UID:2180-1724956200-1724961600@fahrschule-essig.de
SUMMARY:Thema 7 : Geschwindigkeit\, Abstand\, Umwelt
DESCRIPTION:
URL:https://fahrschule-essig.de/event/thema-7-geschwindigkeit-abstand-umwelt-23/
LOCATION:Bockgasse 21
END:VEVENT
END:VCALENDAR