BEGIN:VCALENDAR
VERSION:2.0
PRODID:-//Fahrschule Essig und Heinzmann - ECPv6.15.20//NONSGML v1.0//EN
CALSCALE:GREGORIAN
METHOD:PUBLISH
X-ORIGINAL-URL:https://fahrschule-essig.de
X-WR-CALDESC:Veranstaltungen für Fahrschule Essig und Heinzmann
REFRESH-INTERVAL;VALUE=DURATION:PT1H
X-Robots-Tag:noindex
X-PUBLISHED-TTL:PT1H
BEGIN:VTIMEZONE
TZID:Europe/Berlin
BEGIN:DAYLIGHT
TZOFFSETFROM:+0100
TZOFFSETTO:+0200
TZNAME:CEST
DTSTART:20230326T010000
END:DAYLIGHT
BEGIN:STANDARD
TZOFFSETFROM:+0200
TZOFFSETTO:+0100
TZNAME:CET
DTSTART:20231029T010000
END:STANDARD
BEGIN:DAYLIGHT
TZOFFSETFROM:+0100
TZOFFSETTO:+0200
TZNAME:CEST
DTSTART:20240331T010000
END:DAYLIGHT
BEGIN:STANDARD
TZOFFSETFROM:+0200
TZOFFSETTO:+0100
TZNAME:CET
DTSTART:20241027T010000
END:STANDARD
BEGIN:DAYLIGHT
TZOFFSETFROM:+0100
TZOFFSETTO:+0200
TZNAME:CEST
DTSTART:20250330T010000
END:DAYLIGHT
BEGIN:STANDARD
TZOFFSETFROM:+0200
TZOFFSETTO:+0100
TZNAME:CET
DTSTART:20251026T010000
END:STANDARD
END:VTIMEZONE
BEGIN:VEVENT
DTSTART;TZID=Europe/Berlin:20240701T183000
DTEND;TZID=Europe/Berlin:20240701T200000
DTSTAMP:20260421T082628
CREATED:20240630T155904Z
LAST-MODIFIED:20240630T155904Z
UID:2098-1719858600-1719864000@fahrschule-essig.de
SUMMARY:Technik 2 : Fahren mit Solokfz. und Züge
DESCRIPTION:
URL:https://fahrschule-essig.de/event/technik-2-fahren-mit-solokfz-und-zuege-19/
LOCATION:Wielandstraße 3
END:VEVENT
BEGIN:VEVENT
DTSTART;TZID=Europe/Berlin:20240702T183000
DTEND;TZID=Europe/Berlin:20240702T200000
DTSTAMP:20260421T082628
CREATED:20240630T155943Z
LAST-MODIFIED:20240630T155943Z
UID:2100-1719945000-1719950400@fahrschule-essig.de
SUMMARY:Thema 1 : Persönliche Voraussetzunen
DESCRIPTION:
URL:https://fahrschule-essig.de/event/thema-1-persoenliche-voraussetzunen-15/
LOCATION:Bockgasse 21
END:VEVENT
BEGIN:VEVENT
DTSTART;TZID=Europe/Berlin:20240703T183000
DTEND;TZID=Europe/Berlin:20240703T200000
DTSTAMP:20260421T082628
CREATED:20240630T160022Z
LAST-MODIFIED:20240630T160022Z
UID:2103-1720031400-1720036800@fahrschule-essig.de
SUMMARY:Thema 2 : Rechtliche Rahmenbedingungen
DESCRIPTION:
URL:https://fahrschule-essig.de/event/thema-2-rechtliche-rahmenbedingungen-19/
LOCATION:Wielandstraße 3
END:VEVENT
BEGIN:VEVENT
DTSTART;TZID=Europe/Berlin:20240704T183000
DTEND;TZID=Europe/Berlin:20240704T200000
DTSTAMP:20260421T082628
CREATED:20240630T160108Z
LAST-MODIFIED:20240630T160108Z
UID:2105-1720117800-1720123200@fahrschule-essig.de
SUMMARY:Thema 3 : Verkehrszeichen / -einrichtungen
DESCRIPTION:
URL:https://fahrschule-essig.de/event/thema-3-verkehrszeichen-einrichtungen-18/
LOCATION:Bockgasse 21
END:VEVENT
BEGIN:VEVENT
DTSTART;TZID=Europe/Berlin:20240708T183000
DTEND;TZID=Europe/Berlin:20240708T200000
DTSTAMP:20260421T082628
CREATED:20240630T160154Z
LAST-MODIFIED:20240630T160154Z
UID:2107-1720463400-1720468800@fahrschule-essig.de
SUMMARY:Thema 4 : Strassenverkehrssystem  u.s.
DESCRIPTION:
URL:https://fahrschule-essig.de/event/thema-4-strassenverkehrssystem-u-s-19/
LOCATION:Wielandstraße 3
END:VEVENT
BEGIN:VEVENT
DTSTART;TZID=Europe/Berlin:20240709T183000
DTEND;TZID=Europe/Berlin:20240709T200000
DTSTAMP:20260421T082628
CREATED:20240630T160237Z
LAST-MODIFIED:20240630T160237Z
UID:2109-1720549800-1720555200@fahrschule-essig.de
SUMMARY:Thema 5 : Vorfahrt
DESCRIPTION:
URL:https://fahrschule-essig.de/event/thema-5-vorfahrt-18/
LOCATION:Bockgasse 21
END:VEVENT
BEGIN:VEVENT
DTSTART;TZID=Europe/Berlin:20240710T183000
DTEND;TZID=Europe/Berlin:20240710T200000
DTSTAMP:20260421T082628
CREATED:20240630T160318Z
LAST-MODIFIED:20240630T160318Z
UID:2111-1720636200-1720641600@fahrschule-essig.de
SUMMARY:Thema 6 : Verkehrsregelungen / Bahnübergänge
DESCRIPTION:
URL:https://fahrschule-essig.de/event/thema-6-verkehrsregelungen-bahnuebergaenge-19/
LOCATION:Wielandstraße 3
END:VEVENT
BEGIN:VEVENT
DTSTART;TZID=Europe/Berlin:20240711T183000
DTEND;TZID=Europe/Berlin:20240711T200000
DTSTAMP:20260421T082628
CREATED:20240630T160403Z
LAST-MODIFIED:20240630T160503Z
UID:2119-1720722600-1720728000@fahrschule-essig.de
SUMMARY:Thema 7 : Geschwindigkeit\, Abstand\, Umwelt
DESCRIPTION:
URL:https://fahrschule-essig.de/event/thema-7-geschwindigkeit-abstand-umwelt-21/
LOCATION:Bockgasse 21
END:VEVENT
BEGIN:VEVENT
DTSTART;TZID=Europe/Berlin:20240715T183000
DTEND;TZID=Europe/Berlin:20240715T200000
DTSTAMP:20260421T082628
CREATED:20240630T160612Z
LAST-MODIFIED:20240630T160612Z
UID:2122-1721068200-1721073600@fahrschule-essig.de
SUMMARY:Thema 8 : Andere Teilnehmer im Strassenverkehr
DESCRIPTION:
URL:https://fahrschule-essig.de/event/thema-8-andere-teilnehmer-im-strassenverkehr-19/
LOCATION:Wielandstraße 3
END:VEVENT
BEGIN:VEVENT
DTSTART;TZID=Europe/Berlin:20240716T183000
DTEND;TZID=Europe/Berlin:20240716T200000
DTSTAMP:20260421T082628
CREATED:20240630T160739Z
LAST-MODIFIED:20240630T160739Z
UID:2124-1721154600-1721160000@fahrschule-essig.de
SUMMARY:Thema 9 : Verkehrsverhalten bei Fahrmanövern
DESCRIPTION:
URL:https://fahrschule-essig.de/event/thema-9-verkehrsverhalten-bei-fahrmanoevern-20/
LOCATION:Bockgasse 21
END:VEVENT
BEGIN:VEVENT
DTSTART;TZID=Europe/Berlin:20240717T183000
DTEND;TZID=Europe/Berlin:20240717T200000
DTSTAMP:20260421T082628
CREATED:20240630T160820Z
LAST-MODIFIED:20240630T160820Z
UID:2126-1721241000-1721246400@fahrschule-essig.de
SUMMARY:Thema 10: Ruhender Verkehr
DESCRIPTION:
URL:https://fahrschule-essig.de/event/thema-10-ruhender-verkehr-20/
LOCATION:Wielandstraße 3
END:VEVENT
BEGIN:VEVENT
DTSTART;TZID=Europe/Berlin:20240718T183000
DTEND;TZID=Europe/Berlin:20240718T200000
DTSTAMP:20260421T082628
CREATED:20240630T160901Z
LAST-MODIFIED:20240630T160901Z
UID:2128-1721327400-1721332800@fahrschule-essig.de
SUMMARY:Thema 11: Verhalten in besonderen Situationen
DESCRIPTION:
URL:https://fahrschule-essig.de/event/thema-11-verhalten-in-besonderen-situationen-20/
LOCATION:Bockgasse 21
END:VEVENT
BEGIN:VEVENT
DTSTART;TZID=Europe/Berlin:20240722T183000
DTEND;TZID=Europe/Berlin:20240722T200000
DTSTAMP:20260421T082628
CREATED:20240630T160946Z
LAST-MODIFIED:20240718T165303Z
UID:2130-1721673000-1721678400@fahrschule-essig.de
SUMMARY:SCHWÖRMONTAG GESCHLOSSEN
DESCRIPTION:
URL:https://fahrschule-essig.de/event/thema-12-lebenslanges-lernen-20/
LOCATION:Wielandstraße 3
END:VEVENT
BEGIN:VEVENT
DTSTART;TZID=Europe/Berlin:20240723T183000
DTEND;TZID=Europe/Berlin:20240723T200000
DTSTAMP:20260421T082628
CREATED:20240630T161027Z
LAST-MODIFIED:20240630T161027Z
UID:2132-1721759400-1721764800@fahrschule-essig.de
SUMMARY:Technik 1: Techni. Bed.\, Pers.-Güterbeförderung
DESCRIPTION:
URL:https://fahrschule-essig.de/event/technik-1-techni-bed-pers-gueterbefoerderung-18/
LOCATION:Bockgasse 21
END:VEVENT
BEGIN:VEVENT
DTSTART;TZID=Europe/Berlin:20240724T183000
DTEND;TZID=Europe/Berlin:20240724T200000
DTSTAMP:20260421T082628
CREATED:20240630T161111Z
LAST-MODIFIED:20240630T161111Z
UID:2134-1721845800-1721851200@fahrschule-essig.de
SUMMARY:Technik 2 : Fahren mit Solokfz. und Züge
DESCRIPTION:
URL:https://fahrschule-essig.de/event/technik-2-fahren-mit-solokfz-und-zuege-20/
LOCATION:Wielandstraße 3
END:VEVENT
BEGIN:VEVENT
DTSTART;TZID=Europe/Berlin:20240725T183000
DTEND;TZID=Europe/Berlin:20240725T200000
DTSTAMP:20260421T082628
CREATED:20240630T161154Z
LAST-MODIFIED:20240630T161154Z
UID:2136-1721932200-1721937600@fahrschule-essig.de
SUMMARY:Thema 1 : Persönliche Voraussetzunen
DESCRIPTION:
URL:https://fahrschule-essig.de/event/thema-1-persoenliche-voraussetzunen-16/
LOCATION:Bockgasse 21
END:VEVENT
BEGIN:VEVENT
DTSTART;TZID=Europe/Berlin:20240729T183000
DTEND;TZID=Europe/Berlin:20240729T200000
DTSTAMP:20260421T082628
CREATED:20240630T161234Z
LAST-MODIFIED:20240630T161234Z
UID:2138-1722277800-1722283200@fahrschule-essig.de
SUMMARY:Thema 2 : Rechtliche Rahmenbedingungen
DESCRIPTION:
URL:https://fahrschule-essig.de/event/thema-2-rechtliche-rahmenbedingungen-20/
LOCATION:Wielandstraße 3
END:VEVENT
BEGIN:VEVENT
DTSTART;TZID=Europe/Berlin:20240730T183000
DTEND;TZID=Europe/Berlin:20240730T200000
DTSTAMP:20260421T082628
CREATED:20240630T161317Z
LAST-MODIFIED:20240630T161317Z
UID:2140-1722364200-1722369600@fahrschule-essig.de
SUMMARY:Thema 3 : Verkehrszeichen / -einrichtungen
DESCRIPTION:
URL:https://fahrschule-essig.de/event/thema-3-verkehrszeichen-einrichtungen-19/
LOCATION:Bockgasse 21
END:VEVENT
BEGIN:VEVENT
DTSTART;TZID=Europe/Berlin:20240731T183000
DTEND;TZID=Europe/Berlin:20240731T200000
DTSTAMP:20260421T082628
CREATED:20240630T161401Z
LAST-MODIFIED:20240630T161401Z
UID:2142-1722450600-1722456000@fahrschule-essig.de
SUMMARY:Thema 4 : Strassenverkehrssystem  u.s.
DESCRIPTION:
URL:https://fahrschule-essig.de/event/thema-4-strassenverkehrssystem-u-s-20/
LOCATION:Wielandstraße 3
END:VEVENT
END:VCALENDAR