BEGIN:VCALENDAR
VERSION:2.0
PRODID:-//Fahrschule Essig und Heinzmann - ECPv6.15.20//NONSGML v1.0//EN
CALSCALE:GREGORIAN
METHOD:PUBLISH
X-ORIGINAL-URL:https://fahrschule-essig.de
X-WR-CALDESC:Veranstaltungen für Fahrschule Essig und Heinzmann
REFRESH-INTERVAL;VALUE=DURATION:PT1H
X-Robots-Tag:noindex
X-PUBLISHED-TTL:PT1H
BEGIN:VTIMEZONE
TZID:Europe/Berlin
BEGIN:DAYLIGHT
TZOFFSETFROM:+0100
TZOFFSETTO:+0200
TZNAME:CEST
DTSTART:20230326T010000
END:DAYLIGHT
BEGIN:STANDARD
TZOFFSETFROM:+0200
TZOFFSETTO:+0100
TZNAME:CET
DTSTART:20231029T010000
END:STANDARD
BEGIN:DAYLIGHT
TZOFFSETFROM:+0100
TZOFFSETTO:+0200
TZNAME:CEST
DTSTART:20240331T010000
END:DAYLIGHT
BEGIN:STANDARD
TZOFFSETFROM:+0200
TZOFFSETTO:+0100
TZNAME:CET
DTSTART:20241027T010000
END:STANDARD
BEGIN:DAYLIGHT
TZOFFSETFROM:+0100
TZOFFSETTO:+0200
TZNAME:CEST
DTSTART:20250330T010000
END:DAYLIGHT
BEGIN:STANDARD
TZOFFSETFROM:+0200
TZOFFSETTO:+0100
TZNAME:CET
DTSTART:20251026T010000
END:STANDARD
END:VTIMEZONE
BEGIN:VEVENT
DTSTART;TZID=Europe/Berlin:20240109T183000
DTEND;TZID=Europe/Berlin:20240109T200000
DTSTAMP:20260423T180542
CREATED:20240101T145342Z
LAST-MODIFIED:20240101T145342Z
UID:1747-1704825000-1704830400@fahrschule-essig.de
SUMMARY:Thema 8 : Andere Teilnehmer im Strassenverkehr
DESCRIPTION:
URL:https://fahrschule-essig.de/event/thema-8-andere-teilnehmer-im-strassenverkehr-12/
LOCATION:Bockgasse 21
END:VEVENT
BEGIN:VEVENT
DTSTART;TZID=Europe/Berlin:20240111T183000
DTEND;TZID=Europe/Berlin:20240111T200000
DTSTAMP:20260423T180542
CREATED:20240101T145501Z
LAST-MODIFIED:20240101T145501Z
UID:1749-1704997800-1705003200@fahrschule-essig.de
SUMMARY:Thema 9 : Verkehrsverhalten bei Fahrmanövern
DESCRIPTION:
URL:https://fahrschule-essig.de/event/thema-9-verkehrsverhalten-bei-fahrmanoevern-13/
LOCATION:Bockgasse 21
END:VEVENT
BEGIN:VEVENT
DTSTART;TZID=Europe/Berlin:20240116T183000
DTEND;TZID=Europe/Berlin:20240116T200000
DTSTAMP:20260423T180542
CREATED:20240101T145551Z
LAST-MODIFIED:20240101T145551Z
UID:1751-1705429800-1705435200@fahrschule-essig.de
SUMMARY:Thema 10: Ruhender Verkehr
DESCRIPTION:
URL:https://fahrschule-essig.de/event/thema-10-ruhender-verkehr-13/
LOCATION:Bockgasse 21
END:VEVENT
BEGIN:VEVENT
DTSTART;TZID=Europe/Berlin:20240118T183000
DTEND;TZID=Europe/Berlin:20240118T200000
DTSTAMP:20260423T180542
CREATED:20240101T145645Z
LAST-MODIFIED:20240101T145645Z
UID:1753-1705602600-1705608000@fahrschule-essig.de
SUMMARY:Thema 11: Verhalten in besonderen Situationen
DESCRIPTION:
URL:https://fahrschule-essig.de/event/thema-11-verhalten-in-besonderen-situationen-13/
LOCATION:Bockgasse 21
END:VEVENT
BEGIN:VEVENT
DTSTART;TZID=Europe/Berlin:20240122T183000
DTEND;TZID=Europe/Berlin:20240122T200000
DTSTAMP:20260423T180542
CREATED:20240101T145734Z
LAST-MODIFIED:20240101T145734Z
UID:1755-1705948200-1705953600@fahrschule-essig.de
SUMMARY:Thema 12: Lebenslanges Lernen
DESCRIPTION:
URL:https://fahrschule-essig.de/event/thema-12-lebenslanges-lernen-13/
LOCATION:Wielandstraße 3
END:VEVENT
BEGIN:VEVENT
DTSTART;TZID=Europe/Berlin:20240123T183000
DTEND;TZID=Europe/Berlin:20240123T200000
DTSTAMP:20260423T180542
CREATED:20240101T145853Z
LAST-MODIFIED:20240101T145853Z
UID:1757-1706034600-1706040000@fahrschule-essig.de
SUMMARY:Technik 1: Techni. Bed.\, Pers.-Güterbeförderung
DESCRIPTION:
URL:https://fahrschule-essig.de/event/technik-1-techni-bed-pers-gueterbefoerderung-12/
LOCATION:Bockgasse 21
END:VEVENT
BEGIN:VEVENT
DTSTART;TZID=Europe/Berlin:20240124T183000
DTEND;TZID=Europe/Berlin:20240124T200000
DTSTAMP:20260423T180542
CREATED:20240101T145949Z
LAST-MODIFIED:20240101T145949Z
UID:1759-1706121000-1706126400@fahrschule-essig.de
SUMMARY:Technik 2 : Fahren mit Solokfz. und Züge
DESCRIPTION:
URL:https://fahrschule-essig.de/event/technik-2-fahren-mit-solokfz-und-zuege-13/
LOCATION:Wielandstraße 3
END:VEVENT
BEGIN:VEVENT
DTSTART;TZID=Europe/Berlin:20240125T183000
DTEND;TZID=Europe/Berlin:20240125T200000
DTSTAMP:20260423T180542
CREATED:20240101T150039Z
LAST-MODIFIED:20240101T150039Z
UID:1761-1706207400-1706212800@fahrschule-essig.de
SUMMARY:Thema 1 : Persönliche Voraussetzunen
DESCRIPTION:
URL:https://fahrschule-essig.de/event/thema-1-persoenliche-voraussetzunen-9/
LOCATION:Bockgasse 21
END:VEVENT
BEGIN:VEVENT
DTSTART;TZID=Europe/Berlin:20240129T183000
DTEND;TZID=Europe/Berlin:20240129T200000
DTSTAMP:20260423T180542
CREATED:20240101T150141Z
LAST-MODIFIED:20240101T150141Z
UID:1764-1706553000-1706558400@fahrschule-essig.de
SUMMARY:Thema 2 : Rechtliche Rahmenbedingungen
DESCRIPTION:
URL:https://fahrschule-essig.de/event/thema-2-rechtliche-rahmenbedingungen-13/
LOCATION:Wielandstraße 3
END:VEVENT
BEGIN:VEVENT
DTSTART;TZID=Europe/Berlin:20240130T183000
DTEND;TZID=Europe/Berlin:20240130T200000
DTSTAMP:20260423T180542
CREATED:20240101T150232Z
LAST-MODIFIED:20240101T150232Z
UID:1766-1706639400-1706644800@fahrschule-essig.de
SUMMARY:Thema 3 : Verkehrszeichen / -einrichtungen
DESCRIPTION:
URL:https://fahrschule-essig.de/event/thema-3-verkehrszeichen-einrichtungen-12/
LOCATION:Bockgasse 21
END:VEVENT
BEGIN:VEVENT
DTSTART;TZID=Europe/Berlin:20240131T183000
DTEND;TZID=Europe/Berlin:20240131T200000
DTSTAMP:20260423T180542
CREATED:20240101T150322Z
LAST-MODIFIED:20240101T150322Z
UID:1768-1706725800-1706731200@fahrschule-essig.de
SUMMARY:Thema 4 : Strassenverkehrssystem  u.s.
DESCRIPTION:
URL:https://fahrschule-essig.de/event/thema-4-strassenverkehrssystem-u-s-13/
LOCATION:Wielandstraße 3
END:VEVENT
END:VCALENDAR