BEGIN:VCALENDAR
VERSION:2.0
PRODID:-//Fahrschule Essig und Heinzmann - ECPv6.15.20//NONSGML v1.0//EN
CALSCALE:GREGORIAN
METHOD:PUBLISH
X-ORIGINAL-URL:https://fahrschule-essig.de
X-WR-CALDESC:Veranstaltungen für Fahrschule Essig und Heinzmann
REFRESH-INTERVAL;VALUE=DURATION:PT1H
X-Robots-Tag:noindex
X-PUBLISHED-TTL:PT1H
BEGIN:VTIMEZONE
TZID:Europe/Berlin
BEGIN:DAYLIGHT
TZOFFSETFROM:+0100
TZOFFSETTO:+0200
TZNAME:CEST
DTSTART:20220327T010000
END:DAYLIGHT
BEGIN:STANDARD
TZOFFSETFROM:+0200
TZOFFSETTO:+0100
TZNAME:CET
DTSTART:20221030T010000
END:STANDARD
BEGIN:DAYLIGHT
TZOFFSETFROM:+0100
TZOFFSETTO:+0200
TZNAME:CEST
DTSTART:20230326T010000
END:DAYLIGHT
BEGIN:STANDARD
TZOFFSETFROM:+0200
TZOFFSETTO:+0100
TZNAME:CET
DTSTART:20231029T010000
END:STANDARD
BEGIN:DAYLIGHT
TZOFFSETFROM:+0100
TZOFFSETTO:+0200
TZNAME:CEST
DTSTART:20240331T010000
END:DAYLIGHT
BEGIN:STANDARD
TZOFFSETFROM:+0200
TZOFFSETTO:+0100
TZNAME:CET
DTSTART:20241027T010000
END:STANDARD
END:VTIMEZONE
BEGIN:VEVENT
DTSTART;TZID=Europe/Berlin:20231204T183000
DTEND;TZID=Europe/Berlin:20231204T200000
DTSTAMP:20260423T194811
CREATED:20231114T193604Z
LAST-MODIFIED:20231114T193604Z
UID:1674-1701714600-1701720000@fahrschule-essig.de
SUMMARY:Thema 10: Ruhender Verkehr
DESCRIPTION:
URL:https://fahrschule-essig.de/event/thema-10-ruhender-verkehr-12/
LOCATION:Wielandstraße 3
END:VEVENT
BEGIN:VEVENT
DTSTART;TZID=Europe/Berlin:20231205T183000
DTEND;TZID=Europe/Berlin:20231205T200000
DTSTAMP:20260423T194811
CREATED:20231114T193635Z
LAST-MODIFIED:20231114T193635Z
UID:1676-1701801000-1701806400@fahrschule-essig.de
SUMMARY:Thema 11: Verhalten in besonderen Situationen
DESCRIPTION:
URL:https://fahrschule-essig.de/event/thema-11-verhalten-in-besonderen-situationen-12/
LOCATION:Bockgasse 21
END:VEVENT
BEGIN:VEVENT
DTSTART;TZID=Europe/Berlin:20231206T183000
DTEND;TZID=Europe/Berlin:20231206T200000
DTSTAMP:20260423T194811
CREATED:20231114T193710Z
LAST-MODIFIED:20231114T193710Z
UID:1678-1701887400-1701892800@fahrschule-essig.de
SUMMARY:Thema 12: Lebenslanges Lernen
DESCRIPTION:
URL:https://fahrschule-essig.de/event/thema-12-lebenslanges-lernen-12/
LOCATION:Wielandstraße 3
END:VEVENT
BEGIN:VEVENT
DTSTART;TZID=Europe/Berlin:20231207T183000
DTEND;TZID=Europe/Berlin:20231207T200000
DTSTAMP:20260423T194811
CREATED:20231114T193741Z
LAST-MODIFIED:20231114T193741Z
UID:1680-1701973800-1701979200@fahrschule-essig.de
SUMMARY:Technik 1: Techni. Bed.\, Pers.-Güterbeförderung
DESCRIPTION:
URL:https://fahrschule-essig.de/event/technik-1-techni-bed-pers-gueterbefoerderung-11/
LOCATION:Bockgasse 21
END:VEVENT
BEGIN:VEVENT
DTSTART;TZID=Europe/Berlin:20231211T183000
DTEND;TZID=Europe/Berlin:20231211T200000
DTSTAMP:20260423T194811
CREATED:20231114T193814Z
LAST-MODIFIED:20231114T193814Z
UID:1682-1702319400-1702324800@fahrschule-essig.de
SUMMARY:Technik 2 : Fahren mit Solokfz. und Züge
DESCRIPTION:
URL:https://fahrschule-essig.de/event/technik-2-fahren-mit-solokfz-und-zuege-12/
LOCATION:Wielandstraße 3
END:VEVENT
BEGIN:VEVENT
DTSTART;TZID=Europe/Berlin:20231212T183000
DTEND;TZID=Europe/Berlin:20231212T200000
DTSTAMP:20260423T194811
CREATED:20231114T193852Z
LAST-MODIFIED:20231114T193852Z
UID:1684-1702405800-1702411200@fahrschule-essig.de
SUMMARY:Thema 1 : Persönliche Voraussetzunen
DESCRIPTION:
URL:https://fahrschule-essig.de/event/thema-1-persoenliche-voraussetzunen-8/
LOCATION:Bockgasse 21
END:VEVENT
BEGIN:VEVENT
DTSTART;TZID=Europe/Berlin:20231213T183000
DTEND;TZID=Europe/Berlin:20231213T200000
DTSTAMP:20260423T194811
CREATED:20231114T194058Z
LAST-MODIFIED:20231114T194058Z
UID:1686-1702492200-1702497600@fahrschule-essig.de
SUMMARY:Thema 2 : Rechtliche Rahmenbedingungen
DESCRIPTION:
URL:https://fahrschule-essig.de/event/thema-2-rechtliche-rahmenbedingungen-12/
LOCATION:Wielandstraße 3
END:VEVENT
BEGIN:VEVENT
DTSTART;TZID=Europe/Berlin:20231214T183000
DTEND;TZID=Europe/Berlin:20231214T200000
DTSTAMP:20260423T194811
CREATED:20231114T194157Z
LAST-MODIFIED:20231114T194157Z
UID:1688-1702578600-1702584000@fahrschule-essig.de
SUMMARY:Thema 3 : Verkehrszeichen / -einrichtungen
DESCRIPTION:
URL:https://fahrschule-essig.de/event/thema-3-verkehrszeichen-einrichtungen-11/
LOCATION:Bockgasse 21
END:VEVENT
BEGIN:VEVENT
DTSTART;TZID=Europe/Berlin:20231218T183000
DTEND;TZID=Europe/Berlin:20231218T200000
DTSTAMP:20260423T194811
CREATED:20231114T194240Z
LAST-MODIFIED:20231114T194240Z
UID:1690-1702924200-1702929600@fahrschule-essig.de
SUMMARY:Thema 4 : Strassenverkehrssystem  u.s.
DESCRIPTION:
URL:https://fahrschule-essig.de/event/thema-4-strassenverkehrssystem-u-s-12/
LOCATION:Wielandstraße 3
END:VEVENT
BEGIN:VEVENT
DTSTART;TZID=Europe/Berlin:20231219T183000
DTEND;TZID=Europe/Berlin:20231219T200000
DTSTAMP:20260423T194811
CREATED:20231114T194339Z
LAST-MODIFIED:20231114T194339Z
UID:1692-1703010600-1703016000@fahrschule-essig.de
SUMMARY:Thema 5 : Vorfahrt
DESCRIPTION:
URL:https://fahrschule-essig.de/event/thema-5-vorfahrt-11/
LOCATION:Bockgasse 21
END:VEVENT
BEGIN:VEVENT
DTSTART;TZID=Europe/Berlin:20231220T183000
DTEND;TZID=Europe/Berlin:20231220T200000
DTSTAMP:20260423T194811
CREATED:20231114T194419Z
LAST-MODIFIED:20231114T194419Z
UID:1694-1703097000-1703102400@fahrschule-essig.de
SUMMARY:Thema 6 : Verkehrsregelungen / Bahnübergänge
DESCRIPTION:
URL:https://fahrschule-essig.de/event/thema-6-verkehrsregelungen-bahnuebergaenge-12/
LOCATION:Wielandstraße 3
END:VEVENT
BEGIN:VEVENT
DTSTART;TZID=Europe/Berlin:20231221T183000
DTEND;TZID=Europe/Berlin:20231221T200000
DTSTAMP:20260423T194811
CREATED:20231114T194454Z
LAST-MODIFIED:20231114T194454Z
UID:1696-1703183400-1703188800@fahrschule-essig.de
SUMMARY:Thema 7 : Geschwindigkeit\, Abstand\, Umwelt
DESCRIPTION:
URL:https://fahrschule-essig.de/event/thema-7-geschwindigkeit-abstand-umwelt-14/
LOCATION:Bockgasse 21
END:VEVENT
END:VCALENDAR