BEGIN:VCALENDAR
VERSION:2.0
PRODID:-//Fahrschule Essig und Heinzmann - ECPv6.15.20//NONSGML v1.0//EN
CALSCALE:GREGORIAN
METHOD:PUBLISH
X-ORIGINAL-URL:https://fahrschule-essig.de
X-WR-CALDESC:Veranstaltungen für Fahrschule Essig und Heinzmann
REFRESH-INTERVAL;VALUE=DURATION:PT1H
X-Robots-Tag:noindex
X-PUBLISHED-TTL:PT1H
BEGIN:VTIMEZONE
TZID:Europe/Berlin
BEGIN:DAYLIGHT
TZOFFSETFROM:+0100
TZOFFSETTO:+0200
TZNAME:CEST
DTSTART:20220327T010000
END:DAYLIGHT
BEGIN:STANDARD
TZOFFSETFROM:+0200
TZOFFSETTO:+0100
TZNAME:CET
DTSTART:20221030T010000
END:STANDARD
BEGIN:DAYLIGHT
TZOFFSETFROM:+0100
TZOFFSETTO:+0200
TZNAME:CEST
DTSTART:20230326T010000
END:DAYLIGHT
BEGIN:STANDARD
TZOFFSETFROM:+0200
TZOFFSETTO:+0100
TZNAME:CET
DTSTART:20231029T010000
END:STANDARD
BEGIN:DAYLIGHT
TZOFFSETFROM:+0100
TZOFFSETTO:+0200
TZNAME:CEST
DTSTART:20240331T010000
END:DAYLIGHT
BEGIN:STANDARD
TZOFFSETFROM:+0200
TZOFFSETTO:+0100
TZNAME:CET
DTSTART:20241027T010000
END:STANDARD
END:VTIMEZONE
BEGIN:VEVENT
DTSTART;TZID=Europe/Berlin:20231002T183000
DTEND;TZID=Europe/Berlin:20231002T200000
DTSTAMP:20260424T004750
CREATED:20230922T162510Z
LAST-MODIFIED:20230922T162510Z
UID:1548-1696271400-1696276800@fahrschule-essig.de
SUMMARY:Thema 4 : Strassenverkehrssystem  u.s
DESCRIPTION:
URL:https://fahrschule-essig.de/event/thema-4-strassenverkehrssystem-u-s-10/
LOCATION:Wielandstraße 3
END:VEVENT
BEGIN:VEVENT
DTSTART;TZID=Europe/Berlin:20231003T183000
DTEND;TZID=Europe/Berlin:20231003T200000
DTSTAMP:20260424T004750
CREATED:20230922T162550Z
LAST-MODIFIED:20230922T162550Z
UID:1550-1696357800-1696363200@fahrschule-essig.de
SUMMARY:Feiertag Geschlossen
DESCRIPTION:
URL:https://fahrschule-essig.de/event/feiertag-geschlossen/
LOCATION:Bockgasse 21
END:VEVENT
BEGIN:VEVENT
DTSTART;TZID=Europe/Berlin:20231004T183000
DTEND;TZID=Europe/Berlin:20231004T200000
DTSTAMP:20260424T004750
CREATED:20230922T162638Z
LAST-MODIFIED:20230922T162638Z
UID:1552-1696444200-1696449600@fahrschule-essig.de
SUMMARY:Thema 5 : Vorfahrt
DESCRIPTION:
URL:https://fahrschule-essig.de/event/thema-5-vorfahrt-8/
LOCATION:Wielandstraße 3
END:VEVENT
BEGIN:VEVENT
DTSTART;TZID=Europe/Berlin:20231005T183000
DTEND;TZID=Europe/Berlin:20231005T200000
DTSTAMP:20260424T004750
CREATED:20230922T162724Z
LAST-MODIFIED:20230922T162724Z
UID:1554-1696530600-1696536000@fahrschule-essig.de
SUMMARY:Thema 6 : Verkehrsregelungen / Bahnübergänge
DESCRIPTION:
URL:https://fahrschule-essig.de/event/thema-6-verkehrsregelungen-bahnuebergaenge-9/
LOCATION:Bockgasse 21
END:VEVENT
BEGIN:VEVENT
DTSTART;TZID=Europe/Berlin:20231009T183000
DTEND;TZID=Europe/Berlin:20231009T200000
DTSTAMP:20260424T004750
CREATED:20230922T162811Z
LAST-MODIFIED:20230922T162811Z
UID:1556-1696876200-1696881600@fahrschule-essig.de
SUMMARY:Thema 7 : Geschwindigkeit\, Abstand\, Umwelt
DESCRIPTION:
URL:https://fahrschule-essig.de/event/thema-7-geschwindigkeit-abstand-umwelt-9/
LOCATION:Wielandstraße 3
END:VEVENT
BEGIN:VEVENT
DTSTART;TZID=Europe/Berlin:20231010T183000
DTEND;TZID=Europe/Berlin:20231010T200000
DTSTAMP:20260424T004750
CREATED:20230922T162928Z
LAST-MODIFIED:20230922T162928Z
UID:1558-1696962600-1696968000@fahrschule-essig.de
SUMMARY:Thema 8 : Andere Teilnehmer im Strassenverkehr
DESCRIPTION:
URL:https://fahrschule-essig.de/event/thema-8-andere-teilnehmer-im-strassenverkehr-9/
LOCATION:Bockgasse 21
END:VEVENT
BEGIN:VEVENT
DTSTART;TZID=Europe/Berlin:20231011T183000
DTEND;TZID=Europe/Berlin:20231011T200000
DTSTAMP:20260424T004750
CREATED:20230922T163038Z
LAST-MODIFIED:20230922T163038Z
UID:1560-1697049000-1697054400@fahrschule-essig.de
SUMMARY:Thema 9 : Verkehrsverhalten bei Fahrmanövern
DESCRIPTION:
URL:https://fahrschule-essig.de/event/thema-9-verkehrsverhalten-bei-fahrmanoevern-10/
LOCATION:Wielandstraße 3
END:VEVENT
BEGIN:VEVENT
DTSTART;TZID=Europe/Berlin:20231012T183000
DTEND;TZID=Europe/Berlin:20231012T200000
DTSTAMP:20260424T004750
CREATED:20230922T163122Z
LAST-MODIFIED:20230922T163122Z
UID:1562-1697135400-1697140800@fahrschule-essig.de
SUMMARY:Thema 10: Ruhender Verkehr
DESCRIPTION:
URL:https://fahrschule-essig.de/event/thema-10-ruhender-verkehr-10/
LOCATION:Bockgasse 21
END:VEVENT
BEGIN:VEVENT
DTSTART;TZID=Europe/Berlin:20231016T183000
DTEND;TZID=Europe/Berlin:20231016T200000
DTSTAMP:20260424T004750
CREATED:20230922T163216Z
LAST-MODIFIED:20230922T163402Z
UID:1564-1697481000-1697486400@fahrschule-essig.de
SUMMARY:Thema 11: Verhalten in besonderen Situationen
DESCRIPTION:
URL:https://fahrschule-essig.de/event/thema-11-verhalten-in-besonderen-situationen-10/
LOCATION:Wielandstraße 3
END:VEVENT
BEGIN:VEVENT
DTSTART;TZID=Europe/Berlin:20231017T183000
DTEND;TZID=Europe/Berlin:20231017T200000
DTSTAMP:20260424T004750
CREATED:20230922T163501Z
LAST-MODIFIED:20230922T163501Z
UID:1568-1697567400-1697572800@fahrschule-essig.de
SUMMARY:Thema 12: Lebenslanges Lernen
DESCRIPTION:
URL:https://fahrschule-essig.de/event/thema-12-lebenslanges-lernen-10/
LOCATION:Bockgasse 21
END:VEVENT
BEGIN:VEVENT
DTSTART;TZID=Europe/Berlin:20231018T183000
DTEND;TZID=Europe/Berlin:20231018T200000
DTSTAMP:20260424T004750
CREATED:20230922T163541Z
LAST-MODIFIED:20230922T163541Z
UID:1570-1697653800-1697659200@fahrschule-essig.de
SUMMARY:Technik 1: Techni. Bed.\, Pers.-Güterbeförderung
DESCRIPTION:
URL:https://fahrschule-essig.de/event/technik-1-techni-bed-pers-gueterbefoerderung-9/
LOCATION:Wielandstraße 3
END:VEVENT
BEGIN:VEVENT
DTSTART;TZID=Europe/Berlin:20231019T183000
DTEND;TZID=Europe/Berlin:20231019T200000
DTSTAMP:20260424T004750
CREATED:20230922T163645Z
LAST-MODIFIED:20230922T163645Z
UID:1572-1697740200-1697745600@fahrschule-essig.de
SUMMARY:Technik 2 : Fahren mit Solokfz. und Züge
DESCRIPTION:
URL:https://fahrschule-essig.de/event/technik-2-fahren-mit-solokfz-und-zuege-10/
LOCATION:Bockgasse 21
END:VEVENT
BEGIN:VEVENT
DTSTART;TZID=Europe/Berlin:20231023T183000
DTEND;TZID=Europe/Berlin:20231023T200000
DTSTAMP:20260424T004750
CREATED:20230922T163811Z
LAST-MODIFIED:20231018T141921Z
UID:1576-1698085800-1698091200@fahrschule-essig.de
SUMMARY:Thema 1 : Persönliche Voraussetzunen
DESCRIPTION:
URL:https://fahrschule-essig.de/event/thema-1-persoenliche-voraussetzunen-6/
LOCATION:Wielandstraße 3
END:VEVENT
BEGIN:VEVENT
DTSTART;TZID=Europe/Berlin:20231024T183000
DTEND;TZID=Europe/Berlin:20231024T200000
DTSTAMP:20260424T004750
CREATED:20230922T163857Z
LAST-MODIFIED:20231018T141710Z
UID:1578-1698172200-1698177600@fahrschule-essig.de
SUMMARY:Thema 2 : Rechtliche Rahmenbedingungen
DESCRIPTION:
URL:https://fahrschule-essig.de/event/thema-2-rechtliche-rahmenbedingungen-11/
LOCATION:Bockgasse 21
END:VEVENT
BEGIN:VEVENT
DTSTART;TZID=Europe/Berlin:20231025T183000
DTEND;TZID=Europe/Berlin:20231025T200000
DTSTAMP:20260424T004750
CREATED:20230922T163944Z
LAST-MODIFIED:20231018T141649Z
UID:1580-1698258600-1698264000@fahrschule-essig.de
SUMMARY:Thema 3 : Verkehrszeichen / -einrichtungen
DESCRIPTION:
URL:https://fahrschule-essig.de/event/thema-3-verkehrszeichen-einrichtungen-9/
LOCATION:Wielandstraße 3
END:VEVENT
BEGIN:VEVENT
DTSTART;TZID=Europe/Berlin:20231026T183000
DTEND;TZID=Europe/Berlin:20231026T200000
DTSTAMP:20260424T004750
CREATED:20230922T164037Z
LAST-MODIFIED:20231018T141615Z
UID:1582-1698345000-1698350400@fahrschule-essig.de
SUMMARY:Thema 4 : Strassenverkehrssystem u.s.
DESCRIPTION:
URL:https://fahrschule-essig.de/event/thema-5-vorfahrt-9/
LOCATION:Bockgasse 21
END:VEVENT
BEGIN:VEVENT
DTSTART;TZID=Europe/Berlin:20231030T183000
DTEND;TZID=Europe/Berlin:20231030T200000
DTSTAMP:20260424T004750
CREATED:20230922T164244Z
LAST-MODIFIED:20231018T141554Z
UID:1584-1698690600-1698696000@fahrschule-essig.de
SUMMARY:Thema 5 : Vorfahrt
DESCRIPTION:
URL:https://fahrschule-essig.de/event/thema-6-verkehrsregelungen-bahnuebergaenge-10/
LOCATION:Wielandstraße 3
END:VEVENT
BEGIN:VEVENT
DTSTART;TZID=Europe/Berlin:20231031T183000
DTEND;TZID=Europe/Berlin:20231031T200000
DTSTAMP:20260424T004750
CREATED:20230922T164443Z
LAST-MODIFIED:20231018T141537Z
UID:1586-1698777000-1698782400@fahrschule-essig.de
SUMMARY:Thema 6 : Verkehrsregelungen / Bahnübergänge
DESCRIPTION:
URL:https://fahrschule-essig.de/event/thema-7-geschwindigkeit-abstand-umwelt-10/
LOCATION:Bockgasse 21
END:VEVENT
END:VCALENDAR