BEGIN:VCALENDAR
VERSION:2.0
PRODID:-//Fahrschule Essig und Heinzmann - ECPv6.15.20//NONSGML v1.0//EN
CALSCALE:GREGORIAN
METHOD:PUBLISH
X-ORIGINAL-URL:https://fahrschule-essig.de
X-WR-CALDESC:Veranstaltungen für Fahrschule Essig und Heinzmann
REFRESH-INTERVAL;VALUE=DURATION:PT1H
X-Robots-Tag:noindex
X-PUBLISHED-TTL:PT1H
BEGIN:VTIMEZONE
TZID:Europe/Berlin
BEGIN:DAYLIGHT
TZOFFSETFROM:+0100
TZOFFSETTO:+0200
TZNAME:CEST
DTSTART:20220327T010000
END:DAYLIGHT
BEGIN:STANDARD
TZOFFSETFROM:+0200
TZOFFSETTO:+0100
TZNAME:CET
DTSTART:20221030T010000
END:STANDARD
BEGIN:DAYLIGHT
TZOFFSETFROM:+0100
TZOFFSETTO:+0200
TZNAME:CEST
DTSTART:20230326T010000
END:DAYLIGHT
BEGIN:STANDARD
TZOFFSETFROM:+0200
TZOFFSETTO:+0100
TZNAME:CET
DTSTART:20231029T010000
END:STANDARD
BEGIN:DAYLIGHT
TZOFFSETFROM:+0100
TZOFFSETTO:+0200
TZNAME:CEST
DTSTART:20240331T010000
END:DAYLIGHT
BEGIN:STANDARD
TZOFFSETFROM:+0200
TZOFFSETTO:+0100
TZNAME:CET
DTSTART:20241027T010000
END:STANDARD
END:VTIMEZONE
BEGIN:VEVENT
DTSTART;TZID=Europe/Berlin:20230801T183000
DTEND;TZID=Europe/Berlin:20230801T200000
DTSTAMP:20260424T064305
CREATED:20230731T100123Z
LAST-MODIFIED:20230731T100123Z
UID:1453-1690914600-1690920000@fahrschule-essig.de
SUMMARY:Technik 2 : Fahren mit Solokfz. und Züge
DESCRIPTION:
URL:https://fahrschule-essig.de/event/technik-2-fahren-mit-solokfz-und-zuege-7/
LOCATION:Bockgasse 21
END:VEVENT
BEGIN:VEVENT
DTSTART;TZID=Europe/Berlin:20230802T183000
DTEND;TZID=Europe/Berlin:20230802T200000
DTSTAMP:20260424T064305
CREATED:20230731T100233Z
LAST-MODIFIED:20230731T100233Z
UID:1455-1691001000-1691006400@fahrschule-essig.de
SUMMARY:Thema 1 : Persönliche Voraussetzunen
DESCRIPTION:
URL:https://fahrschule-essig.de/event/thema-1-persoenliche-voraussetzunen-3/
LOCATION:Wielandstraße 3
END:VEVENT
BEGIN:VEVENT
DTSTART;TZID=Europe/Berlin:20230803T183000
DTEND;TZID=Europe/Berlin:20230803T200000
DTSTAMP:20260424T064305
CREATED:20230731T100315Z
LAST-MODIFIED:20230731T100315Z
UID:1457-1691087400-1691092800@fahrschule-essig.de
SUMMARY:Thema 2 : Rechtliche Rahmenbedingungen
DESCRIPTION:
URL:https://fahrschule-essig.de/event/thema-2-rechtliche-rahmenbedingungen-7/
LOCATION:Bockgasse 21
END:VEVENT
BEGIN:VEVENT
DTSTART;TZID=Europe/Berlin:20230807T183000
DTEND;TZID=Europe/Berlin:20230807T200000
DTSTAMP:20260424T064305
CREATED:20230731T100400Z
LAST-MODIFIED:20230731T100400Z
UID:1459-1691433000-1691438400@fahrschule-essig.de
SUMMARY:Thema 3 : Verkehrszeichen / -einrichtungen
DESCRIPTION:
URL:https://fahrschule-essig.de/event/thema-3-verkehrszeichen-einrichtungen-7/
LOCATION:Wielandstraße 3
END:VEVENT
BEGIN:VEVENT
DTSTART;TZID=Europe/Berlin:20230808T183000
DTEND;TZID=Europe/Berlin:20230808T200000
DTSTAMP:20260424T064305
CREATED:20230731T100451Z
LAST-MODIFIED:20230731T100451Z
UID:1461-1691519400-1691524800@fahrschule-essig.de
SUMMARY:Thema 4 : Strassenverkehrssystem u.s.
DESCRIPTION:
URL:https://fahrschule-essig.de/event/thema-4-strassenverkehrssystem-u-s-8/
LOCATION:Bockgasse 21
END:VEVENT
BEGIN:VEVENT
DTSTART;TZID=Europe/Berlin:20230809T183000
DTEND;TZID=Europe/Berlin:20230809T200000
DTSTAMP:20260424T064305
CREATED:20230731T100535Z
LAST-MODIFIED:20230731T100535Z
UID:1463-1691605800-1691611200@fahrschule-essig.de
SUMMARY:Thema 5 : Vorfahrt
DESCRIPTION:
URL:https://fahrschule-essig.de/event/thema-5-vorfahrt-6/
LOCATION:Wielandstraße 3
END:VEVENT
BEGIN:VEVENT
DTSTART;TZID=Europe/Berlin:20230810T183000
DTEND;TZID=Europe/Berlin:20230810T200000
DTSTAMP:20260424T064305
CREATED:20230731T100623Z
LAST-MODIFIED:20230731T100623Z
UID:1465-1691692200-1691697600@fahrschule-essig.de
SUMMARY:Thema 6 : Verkehrsregelungen / Bahnübergänge
DESCRIPTION:
URL:https://fahrschule-essig.de/event/thema-6-verkehrsregelungen-bahnuebergaenge-7/
LOCATION:Bockgasse 21
END:VEVENT
BEGIN:VEVENT
DTSTART;TZID=Europe/Berlin:20230814T183000
DTEND;TZID=Europe/Berlin:20230814T200000
DTSTAMP:20260424T064305
CREATED:20230731T100707Z
LAST-MODIFIED:20230811T180435Z
UID:1467-1692037800-1692043200@fahrschule-essig.de
SUMMARY:Geschlossen
DESCRIPTION:
URL:https://fahrschule-essig.de/event/thema-7-geschwindigkeit-abstand-umwelt-7/
LOCATION:Wielandstraße 3
END:VEVENT
BEGIN:VEVENT
DTSTART;TZID=Europe/Berlin:20230815T183000
DTEND;TZID=Europe/Berlin:20230815T200000
DTSTAMP:20260424T064305
CREATED:20230731T100748Z
LAST-MODIFIED:20230731T100748Z
UID:1469-1692124200-1692129600@fahrschule-essig.de
SUMMARY:Thema 8 : Andere Teilnehmer im Strassenverkehr
DESCRIPTION:
URL:https://fahrschule-essig.de/event/thema-8-andere-teilnehmer-im-strassenverkehr-7/
LOCATION:Bockgasse 21
END:VEVENT
BEGIN:VEVENT
DTSTART;TZID=Europe/Berlin:20230816T183000
DTEND;TZID=Europe/Berlin:20230816T200000
DTSTAMP:20260424T064305
CREATED:20230731T100833Z
LAST-MODIFIED:20230815T191734Z
UID:1471-1692210600-1692216000@fahrschule-essig.de
SUMMARY:Thema 9 : Verkehrsverhalten bei Fahrmanövern
DESCRIPTION:
URL:https://fahrschule-essig.de/event/thema-9-verkehrsverhalten-bei-fahrmanoevern-8/
LOCATION:Wielandstraße 3
END:VEVENT
BEGIN:VEVENT
DTSTART;TZID=Europe/Berlin:20230817T183000
DTEND;TZID=Europe/Berlin:20230817T200000
DTSTAMP:20260424T064305
CREATED:20230731T100927Z
LAST-MODIFIED:20230815T191831Z
UID:1473-1692297000-1692302400@fahrschule-essig.de
SUMMARY:Geschlossen
DESCRIPTION:
URL:https://fahrschule-essig.de/event/thema-10-ruhender-verkehr-8/
LOCATION:Bockgasse 21
END:VEVENT
BEGIN:VEVENT
DTSTART;TZID=Europe/Berlin:20230821T183000
DTEND;TZID=Europe/Berlin:20230821T200000
DTSTAMP:20260424T064305
CREATED:20230731T101024Z
LAST-MODIFIED:20230811T180706Z
UID:1475-1692642600-1692648000@fahrschule-essig.de
SUMMARY:Geschlossen
DESCRIPTION:
URL:https://fahrschule-essig.de/event/thema-11-verhalten-in-besonderen-situationen-8/
LOCATION:Wielandstraße 3
END:VEVENT
BEGIN:VEVENT
DTSTART;TZID=Europe/Berlin:20230822T183000
DTEND;TZID=Europe/Berlin:20230822T200000
DTSTAMP:20260424T064305
CREATED:20230731T101112Z
LAST-MODIFIED:20230731T101112Z
UID:1477-1692729000-1692734400@fahrschule-essig.de
SUMMARY:Thema 12: Lebenslanges Lernen
DESCRIPTION:
URL:https://fahrschule-essig.de/event/thema-12-lebenslanges-lernen-8/
LOCATION:Bockgasse 21
END:VEVENT
BEGIN:VEVENT
DTSTART;TZID=Europe/Berlin:20230823T183000
DTEND;TZID=Europe/Berlin:20230823T193000
DTSTAMP:20260424T064305
CREATED:20230731T101150Z
LAST-MODIFIED:20230811T180908Z
UID:1479-1692815400-1692819000@fahrschule-essig.de
SUMMARY:Geschlossen
DESCRIPTION:
URL:https://fahrschule-essig.de/event/technik-1-techni-bed-pers-gueterbefoerderung-7/
LOCATION:Wielandstraße 3
END:VEVENT
BEGIN:VEVENT
DTSTART;TZID=Europe/Berlin:20230824T183000
DTEND;TZID=Europe/Berlin:20230824T200000
DTSTAMP:20260424T064305
CREATED:20230731T101241Z
LAST-MODIFIED:20230731T101241Z
UID:1481-1692901800-1692907200@fahrschule-essig.de
SUMMARY:Technik 2 : Fahren mit Solokfz. und Züge
DESCRIPTION:
URL:https://fahrschule-essig.de/event/technik-2-fahren-mit-solokfz-und-zuege-8/
LOCATION:Bockgasse 21
END:VEVENT
BEGIN:VEVENT
DTSTART;TZID=Europe/Berlin:20230828T183000
DTEND;TZID=Europe/Berlin:20230828T200000
DTSTAMP:20260424T064305
CREATED:20230731T101323Z
LAST-MODIFIED:20230731T101323Z
UID:1483-1693247400-1693252800@fahrschule-essig.de
SUMMARY:Thema 1 : Persönliche Voraussetzunen
DESCRIPTION:
URL:https://fahrschule-essig.de/event/thema-1-persoenliche-voraussetzunen-4/
LOCATION:Wielandstraße 3
END:VEVENT
BEGIN:VEVENT
DTSTART;TZID=Europe/Berlin:20230829T183000
DTEND;TZID=Europe/Berlin:20230829T200000
DTSTAMP:20260424T064305
CREATED:20230731T101400Z
LAST-MODIFIED:20230731T101400Z
UID:1485-1693333800-1693339200@fahrschule-essig.de
SUMMARY:Thema 2 : Rechtliche Rahmenbedingungen
DESCRIPTION:
URL:https://fahrschule-essig.de/event/thema-2-rechtliche-rahmenbedingungen-8/
LOCATION:Bockgasse 21
END:VEVENT
BEGIN:VEVENT
DTSTART;TZID=Europe/Berlin:20230830T183000
DTEND;TZID=Europe/Berlin:20230830T200000
DTSTAMP:20260424T064305
CREATED:20230731T101440Z
LAST-MODIFIED:20230731T101440Z
UID:1487-1693420200-1693425600@fahrschule-essig.de
SUMMARY:Thema 3 : Verkehrszeichen / -einrichtungen
DESCRIPTION:
URL:https://fahrschule-essig.de/event/thema-3-verkehrszeichen-einrichtungen-8/
LOCATION:Wielandstraße 3
END:VEVENT
BEGIN:VEVENT
DTSTART;TZID=Europe/Berlin:20230831T183000
DTEND;TZID=Europe/Berlin:20230831T200000
DTSTAMP:20260424T064305
CREATED:20230731T101517Z
LAST-MODIFIED:20230731T101517Z
UID:1489-1693506600-1693512000@fahrschule-essig.de
SUMMARY:Thema 4 : Strassenverkehrssystem u.s.
DESCRIPTION:
URL:https://fahrschule-essig.de/event/thema-4-strassenverkehrssystem-u-s-9/
LOCATION:Bockgasse 21
END:VEVENT
END:VCALENDAR